BEGIN:VCALENDAR
VERSION:2.0
PRODID:-//Inland Empire Magazine - ECPv6.15.20//NONSGML v1.0//EN
CALSCALE:GREGORIAN
METHOD:PUBLISH
X-WR-CALNAME:Inland Empire Magazine
X-ORIGINAL-URL:https://inlandempiremagazine.com
X-WR-CALDESC:Events for Inland Empire Magazine
REFRESH-INTERVAL;VALUE=DURATION:PT1H
X-Robots-Tag:noindex
X-PUBLISHED-TTL:PT1H
BEGIN:VTIMEZONE
TZID:UTC
BEGIN:STANDARD
TZOFFSETFROM:+0000
TZOFFSETTO:+0000
TZNAME:UTC
DTSTART:20240101T000000
END:STANDARD
END:VTIMEZONE
BEGIN:VEVENT
DTSTART;TZID=UTC:20250620T000000
DTEND;TZID=UTC:20250706T000000
DTSTAMP:20260425T123230
CREATED:20250527T213406Z
LAST-MODIFIED:20250527T213406Z
UID:20508-1750377600-1751760000@inlandempiremagazine.com
SUMMARY:Man of La Mancha
DESCRIPTION:Man of La Mancha\nBook by Dale Wasserman\n​Music and lyrics by Mitch Leigh and Joe Darian\nDirected by Zach Simons \nJune 20th – July 6th\, 2025 \nMan of La Mancha\, based on Cervantes’ epic 17th-century novel\, Don Quixote\, is a remarkable\, poignant\, moving musical that was one of the first shows to musicalize a piece of historical literature. \nSet in the context of the Spanish Inquisition\, author Miguel de Cervantes enlists his fellow prisoners as characters in his play to tell the story of the aged Alonso Quijana. A man who believes himself to be a knight errant\, names himself Don Quixote\, and pursues an obsessive quest to attain an impossible dream. Against all odds\, Quixote and his trusty squire Sancho Panza take to the road in a quest to chivalry\, and seek out the good and innocent in a world filled with darkness and despair. \n\n\n 
URL:https://inlandempiremagazine.com/event/man-of-la-mancha/
LOCATION:Riverside Community Players\, s\, 4026 Fourteenth Street\,\, Riverside\, CA
CATEGORIES:Concerts,Shows
ATTACH;FMTTYPE=image/png:https://inlandempiremagazine.com/wp-content/uploads/2025/05/man-of-lamancha-2_orig.png
END:VEVENT
BEGIN:VEVENT
DTSTART;TZID=UTC:20250701T200000
DTEND;TZID=UTC:20250701T200000
DTSTAMP:20260425T123230
CREATED:20250527T214633Z
LAST-MODIFIED:20250527T214744Z
UID:20521-1751400000-1751400000@inlandempiremagazine.com
SUMMARY:Bluegrass Under the Stars with Rebecca Frazier
DESCRIPTION:The first woman to grace the cover of Flatpicking Guitar Magazine\, bluegrass luminary Rebecca Frazier brings compelling original artistry and critically acclaimed interpretations of great country classics. \nRebecca Frazier | Official website of Flatpicking Guitarist\, Vocalist\, Songwriter Rebecca Frazier \n\n\n\n\nSponsored by Maupin Payne Financial Advisors
URL:https://inlandempiremagazine.com/event/bluegrass-under-the-stars-with-rebecca-frazier/
LOCATION:Redlands Bowl\, 25 Grant St\, Redlands\, CA\, 92373
CATEGORIES:Shows
ATTACH;FMTTYPE=image/jpeg:https://inlandempiremagazine.com/wp-content/uploads/2025/05/71RF2.jpg
END:VEVENT
BEGIN:VEVENT
DTSTART;TZID=UTC:20250703T200000
DTEND;TZID=UTC:20250703T200000
DTSTAMP:20260425T123230
CREATED:20250625T194731Z
LAST-MODIFIED:20250625T194755Z
UID:20566-1751572800-1751572800@inlandempiremagazine.com
SUMMARY:A Star-Spangled Evening of Patriotic Pops
DESCRIPTION:Time: 8pm\n\n\n\n\n\n\nProduced and conducted by Nolan Livesay \n\n\n\n\n\nA festive patriotic evening featuring a festival orchestra\, singers\, and a special appearance by the Inland Master Chorale! \nJASON & NOLAN LIVESAY \n\n\n\n\n\nSponsored by Charlotte and Larry Burgess and the Will J. Reid Foundation \n\n\n\n\n\ndirections & parking\n\n\n\n\nfrequently asked questions
URL:https://inlandempiremagazine.com/event/a-star-spangled-evening-of-patriotic-pops/
LOCATION:Redlands Bowl\, 25 Grant St\, Redlands\, CA\, 92373
CATEGORIES:Concerts
ATTACH;FMTTYPE=image/jpeg:https://inlandempiremagazine.com/wp-content/uploads/2025/06/73PP2.jpg
END:VEVENT
BEGIN:VEVENT
DTSTART;TZID=UTC:20250708T200000
DTEND;TZID=UTC:20250708T200000
DTSTAMP:20260425T123230
CREATED:20250625T195004Z
LAST-MODIFIED:20250625T221102Z
UID:20570-1752004800-1752004800@inlandempiremagazine.com
SUMMARY:Mariachi Continental de San Diego
DESCRIPTION:A premier mariachi ensemble whose dynamic multimedia concert experience brings a contemporary flair to great Mexican folk classics. \nMariachi Continental de México – Mariachi band website \n\n\n\n\n\n\n\n\n\n\ndirections & parking\n\n\n\n\nfrequently asked questions
URL:https://inlandempiremagazine.com/event/mariachi-continental-de-san-diego/
LOCATION:Redlands Bowl\, 25 Grant St\, Redlands\, CA\, 92373
CATEGORIES:Concerts
ATTACH;FMTTYPE=image/jpeg:https://inlandempiremagazine.com/wp-content/uploads/2025/06/78MCO.jpg
END:VEVENT
BEGIN:VEVENT
DTSTART;TZID=UTC:20250711T200000
DTEND;TZID=UTC:20250711T200000
DTSTAMP:20260425T123230
CREATED:20250626T143821Z
LAST-MODIFIED:20250626T143841Z
UID:20575-1752264000-1752264000@inlandempiremagazine.com
SUMMARY:Catapult
DESCRIPTION:Catapult has captivated audiences worldwide since taking America’s Got Talent by storm in 2013. Through shadow illusion dance\, you will be transported in fantastical worlds made from only light\, shadow\, and the human body. A Bowl evening for the entire family! \n\n\n\n\n\nSponsored by The Contemporary Club\, Redlands \n\n\n\n\n\ndirections & parking\n\n\n\n\nfrequently asked questions
URL:https://inlandempiremagazine.com/event/catapult/
LOCATION:Redlands Bowl\, 25 Grant St\, Redlands\, CA\, 92373
CATEGORIES:Shows
ATTACH;FMTTYPE=image/jpeg:https://inlandempiremagazine.com/wp-content/uploads/2025/06/711.jpg
END:VEVENT
BEGIN:VEVENT
DTSTART;TZID=UTC:20250712T000000
DTEND;TZID=UTC:20250817T000000
DTSTAMP:20260425T123230
CREATED:20250626T144748Z
LAST-MODIFIED:20250626T144755Z
UID:20584-1752278400-1755388800@inlandempiremagazine.com
SUMMARY:The Music Man
DESCRIPTION:THE BROADWAY FAVORITE BRIGHTENS LIFEHOUSE THEATER! \nTraveling con man Harold Hill arrives in River City\, ready to fleece unsuspecting locals with sales of uniforms and musical instruments as he falsely promises to start a band.  But the unexpected happens when Harold falls in love with librarian Marian Paroo.  Will he experience a change of heart and ultimate redemption before it’s too late?  This celebrated Broadway hit and classic film makes its LifeHouse Theater premiere!         \nJuly 12 – August 17\, 2025
URL:https://inlandempiremagazine.com/event/the-music-man/
LOCATION:LifeHouse Theater\, 1135 N. Church St.\,\, Redlands\, CA
CATEGORIES:Shows
ATTACH;FMTTYPE=image/png:https://inlandempiremagazine.com/wp-content/uploads/2025/06/Music-Man-logo.png
END:VEVENT
BEGIN:VEVENT
DTSTART;TZID=UTC:20250712T100000
DTEND;TZID=UTC:20250713T170000
DTSTAMP:20260425T123230
CREATED:20250626T144443Z
LAST-MODIFIED:20250626T144450Z
UID:20582-1752314400-1752426000@inlandempiremagazine.com
SUMMARY:RailGiants Train Museum
DESCRIPTION:RailGiants Train Museum at the Los Angeles County Fairgrounds in Pomona\, California is a historical journey back to the glory days of the American Railroad. \nOur Museum houses some of the country’s most well-preserved locomotives\, which includes several sole survivors of their respective classes. Our RailGiants collection contains two of the four surviving 3-Cylinder steam locomotives; SP #5021 and UP #9000. The largest diesel locomotive\, a Union Pacific “Centennial\,” is also here. In addition to our locomotives\, we have various pieces of Rolling Stock (freight and passenger cars)\, our historic Arcadia Depot\, Library Archives\, and Gift Shop. \nWe are open free to the public during the second weekend of each month\, except in May\, from 10 am to 5 pm. Ample parking is available. \nLearn More \n\nLocation:\nGate 17 \n\n\nParking:\nGate 1\nFREE General Parking \n\n\nDirections:\nCLICK HERE for the directions.
URL:https://inlandempiremagazine.com/event/railgiants-train-museum-11/
LOCATION:Pomona Fairplex\, 1101 Mckinley\, Pomona\, CA
CATEGORIES:Expo
ATTACH;FMTTYPE=image/jpeg:https://inlandempiremagazine.com/wp-content/uploads/2024/08/RailGiants-Banner.jpg
END:VEVENT
BEGIN:VEVENT
DTSTART;TZID=UTC:20250712T150000
DTEND;TZID=UTC:20250712T150000
DTSTAMP:20260425T123230
CREATED:20250626T144138Z
LAST-MODIFIED:20250626T144146Z
UID:20579-1752332400-1752332400@inlandempiremagazine.com
SUMMARY:The Magical Music of Motown
DESCRIPTION:NEW SHOW LOOK WITH EVEN MORE MAGICAL MOTOWN HITS!!!\n\n\n Saturday\, July 12\, 2025\, 3:00 pm\n\n\n\n\n\nBuy Tickets\nSelect your seats here!\n\n\n\n\n\n\nDon’t miss this SUPERBAND with internationally acclaimed artists who faithfully recreate the dynamic performances of:  The Temptations\, Stevie Wonder\, The Supremes\, Marvin Gaye\, Martha and The Vandellas\,  The Four Tops\, The Jackson Five\,  Smokey Robinson and many more MOTOWN Legends. \nThis amazing show presents many classic MOTOWN hits including: \nReach Out\, Stop In The Name Of Love\, Ain’t Too Proud To Beg\, Heatwave\, Get Ready\,   Rescue Me\, Dancing in The Street\, Signed Sealed Delivered\, You Can’t Hurry Love\, Ain’t No Mountain High Enough\, My Girl \, Can You Feel It \, I Want You Back and many more. \n  \nCHECK OUT the amazing performing credits of our world class band who love to pay tribute to the wonderful music that inspires them. \nThey have collectively played or recorded with: \n  \nStevie Wonder\, The Temptations\, The Jacksons\, The Supremes\, Martha Reeves & the Vandellas\, Marvin Gaye\, The Four Tops\, Gladys Knight\, Bill Withers\, Boz Skaggs\, Bobby Womack\, Earth Wind and Fire\, Isaac Hayes\, J LO\, Aretha Franklin\, David Foster\, Rose Royce\, The GAP Band\, Englebert Humperdinck\, Sheila E\, Usher\, Teena Marie\, etc. \nShow is not recommended for children under 10 years old. Artists may change without notice due to availability.
URL:https://inlandempiremagazine.com/event/the-magical-music-of-motown/
LOCATION:Lewis Family Playhouse\, 12505 Cultural Center Drive\,\, Rancho Cuc
CATEGORIES:Concerts
ATTACH;FMTTYPE=image/png:https://inlandempiremagazine.com/wp-content/uploads/2025/06/MagicalMusicofMotownNew1080x1080.png
END:VEVENT
BEGIN:VEVENT
DTSTART;TZID=UTC:20250715T200000
DTEND;TZID=UTC:20250715T200000
DTSTAMP:20260425T123230
CREATED:20250626T144953Z
LAST-MODIFIED:20250626T145000Z
UID:20587-1752609600-1752609600@inlandempiremagazine.com
SUMMARY:Navy Band Southwest
DESCRIPTION:The Redlands Bowl welcomes Navy Band Southwest for a patriotic musical evening featuring the Navy’s finest musicians! \nUnder the direction of Lieutenant Matthew M. Shea\, Navy Band Southwest serves as the musical ambassador for the commander of Navy Region Southwest. \nNavy Band \n\n\n\n\n\nSponsored by Paul and Joann Barich \n\n\n\n\n\ndirections & parking\n\n\n\n\nfrequently asked questions
URL:https://inlandempiremagazine.com/event/navy-band-southwest/
LOCATION:Redlands Bowl\, 25 Grant St\, Redlands\, CA\, 92373
CATEGORIES:Shows
ATTACH;FMTTYPE=image/jpeg:https://inlandempiremagazine.com/wp-content/uploads/2025/06/715NB.jpg
END:VEVENT
BEGIN:VEVENT
DTSTART;TZID=UTC:20250718T200000
DTEND;TZID=UTC:20250718T200000
DTSTAMP:20260425T123230
CREATED:20250626T151129Z
LAST-MODIFIED:20250626T151136Z
UID:20591-1752868800-1752868800@inlandempiremagazine.com
SUMMARY:Naturally 7
DESCRIPTION:As winners of ‘The World’s Best’ hosted by James Corden\, Naturally 7 reign supreme among the world’s a capella elite. Transforming their voices into human instruments to stunningly producing music of any genre\, they have shared stages worldwide with preeminent artists including Michael Bublé\, Coldplay\, Stevie Wonder\, Diana Ross\, and Lionel Richie. \nThe best a cappella group in the world! -Quincy Jones \nHome | Naturally 7 \n\n\n\n\n\n\n\n\n\n\ndirections & parking\n\n\n\n\nfrequently asked questions
URL:https://inlandempiremagazine.com/event/naturally-7/
LOCATION:Redlands Bowl\, 25 Grant St\, Redlands\, CA\, 92373
CATEGORIES:Concerts
ATTACH;FMTTYPE=image/jpeg:https://inlandempiremagazine.com/wp-content/uploads/2025/06/718N7.jpg
END:VEVENT
BEGIN:VEVENT
DTSTART;TZID=UTC:20250724T200000
DTEND;TZID=UTC:20250727T000000
DTSTAMP:20260425T123230
CREATED:20250626T151350Z
LAST-MODIFIED:20250626T151357Z
UID:20595-1753387200-1753574400@inlandempiremagazine.com
SUMMARY:Joseph and the Amazing Technicolor Dreamcoat
DESCRIPTION:Produced and Directed by Nathan Prince and Steve Simons of Legendary Productions\nTuesday\, 7/22/25 – Public Dress Rehearsal\nThursday\, 7/24/25 – Sunday\, 7/27/25 – Full Performances \n\n\n\n\n\nOne of the most enduring musicals of all time\, Joseph and the Amazing Technicolor Dreamcoat brings a contemporary retelling of the journey of Joseph\, his father Jacob\, eleven brothers\, and the coat of many colors. \n\n\n\n\nSponsored by:\nThursday\, 7/24 – Loma Linda University Health\nFriday\, 7/25 – Neal and Joyce Waner\nSaturday\, 7/26 – Redlands Community Hospital \n\n\n\n\n\ndirections & parking\n\n\n\n\nfrequently asked questions
URL:https://inlandempiremagazine.com/event/joseph-and-the-amazing-technicolor-dreamcoat/
LOCATION:Redlands Bowl\, 25 Grant St\, Redlands\, CA\, 92373
CATEGORIES:Concerts
ATTACH;FMTTYPE=image/jpeg:https://inlandempiremagazine.com/wp-content/uploads/2025/06/722J.jpg
END:VEVENT
BEGIN:VEVENT
DTSTART;TZID=UTC:20250726T110000
DTEND;TZID=UTC:20250803T160000
DTSTAMP:20260425T123230
CREATED:20250626T152114Z
LAST-MODIFIED:20250626T152121Z
UID:20603-1753527600-1754236800@inlandempiremagazine.com
SUMMARY:Joseph and the Amazing Technicolor Dreamcoat
DESCRIPTION:Tickets\nSaturday\, July 26\, 2025\, 11:00 am \nBuy Tickets \nSaturday\, July 26\, 2025\, 4:00 pm \nBuy Tickets \nSunday\, July 27\, 2025\, 11:00 am \nBuy Tickets \nSunday\, July 27\, 2025\, 4:00 pm \nBuy Tickets \nSaturday\, August 2\, 2025\, 11:00 am \nBuy Tickets \nSaturday\, August 2\, 2025\, 4:00 pm \nBuy Tickets \nSunday\, August 3\, 2025\, 11:00 am \nBuy Tickets \nSunday\, August 3\, 2025\, 4:00 pm \nBuy Tickets \nDon’t miss the adventure! Bring the whole family and experience Andrew Lloyd Webber’s dazzling\, fun-filled musical Joseph and the Amazing Technicolor Dreamcoat! \nGet your tickets now and join us for a show that’s sure to inspire and entertain!
URL:https://inlandempiremagazine.com/event/joseph-and-the-amazing-technicolor-dreamcoat-2/
LOCATION:Lewis Family Playhouse\, 12505 Cultural Center Drive\,\, Rancho Cuc
CATEGORIES:Concerts
ATTACH;FMTTYPE=image/png:https://inlandempiremagazine.com/wp-content/uploads/2025/06/Joseph1080x1080_0.png
END:VEVENT
BEGIN:VEVENT
DTSTART;TZID=UTC:20250726T140000
DTEND;TZID=UTC:20250726T140000
DTSTAMP:20260425T123230
CREATED:20250626T151823Z
LAST-MODIFIED:20250626T151830Z
UID:20599-1753538400-1753538400@inlandempiremagazine.com
SUMMARY:Scot Bruce: Tribute to the King of Rock ‘n’ Roll
DESCRIPTION:SCOT BRUCE: TRIBUTE TO THE KING OF ROCK N’ ROLL | JULY 26\n\n\n\n\nGET TICKETS HERE!\n\n\n\n\nOriginally from the Pacific Northwest\, where he whttps://yucaipaperformingarts.org/scot-bruce/as a radio personality and a drummer\, Scot has lived in Los Angeles since 1990. While pursuing music and acting as a career (and having been a musician and big Elvis fan all of his life)\, he started doing a 1950’s era Elvis show as a way to survive the lean times. The result was a surprise to Scot…what was meant as a part-time “gig” to supplement his income\, blossomed into a full-time career! Because of his uncanny resemblance to the young “King” (and his ability to sing\, strum a guitar\, and swivel his hips)\, his live show has taken him across the U.S. and all over the world. As Elvis\, he has appeared in music videos with Faith Hill and Sheryl Crow\, and has been heard as the “Resident Elvis” with his pals “Mark and Brian” on their highly rated Los Angeles morning radio show. Scot has also appeared in recurring roles on the hit soap operas Days of Our Lives and The Bold and the Beautiful\, a Pizza Hut commercial\, the California Lottery “Elvis” ad campaign\, and in several successful productions of Idols of the King\, including the historic Ryman Auditorium in Nashville\, the Barter Theatre in Virginia and the Alabama Shakespeare Festival in Montgomery. Recently\, he had the honor of performing with the legendary Jordanaires (Elvis’ original backup singers). If you saw the True Hollywood Story: Elvis in Hollywood on E! Entertainment Network\, that was Scot playing Elvis in the recreation scenes. He performs at Disneyland on a regular basis\, and tours with the ‘Legends of Rock & Roll – Buddy\, Roy & Elvis.’ \nAside from ‘being Elvis’ Scot is a songwriter\, and (whenever possible) he performs an acoustic guitar/harmonica solo act in local pubs and plays the drums with L.A. based rock-a-billy bands.
URL:https://inlandempiremagazine.com/event/scot-bruce-tribute-to-the-king-of-rock-n-roll/
LOCATION:Yucaipa Performing Arts Center\,\, 12062 California St.\,\, Yucaipa\, CA
CATEGORIES:Concerts
ATTACH;FMTTYPE=image/png:https://inlandempiremagazine.com/wp-content/uploads/2025/06/Screenshot-2025-06-26-at-10.17.17 AM.png
END:VEVENT
BEGIN:VEVENT
DTSTART;TZID=UTC:20250729T200000
DTEND;TZID=UTC:20250729T200000
DTSTAMP:20260425T123230
CREATED:20250626T152438Z
LAST-MODIFIED:20250626T161716Z
UID:20606-1753819200-1753819200@inlandempiremagazine.com
SUMMARY:The Pack Drumline
DESCRIPTION:One of the most dynamic percussive groups of all time\, The Pack Drumline serves as the official drumline for the Chicago Bulls\, the Chicago Blackhawks\, and the Chicago Sky (WNBA). Their awe-inspiring blend of southern show drumming\, upbeat choreography\, and stunning visuals has captivated audiences worldwide! \nThe Pack | The Pack Drumline \n\n\n\n\n\nSponsored by the University of Redlands\, University of Redlands Town & Gown\, Marilyn Solter ’59\, and Karen Hansberger \n\n\n\n\n\ndirections & parking\n\n\n\n\nfrequently asked questions
URL:https://inlandempiremagazine.com/event/the-pack-drumline/
LOCATION:Redlands Bowl\, 25 Grant St\, Redlands\, CA\, 92373
CATEGORIES:Concerts
ATTACH;FMTTYPE=image/jpeg:https://inlandempiremagazine.com/wp-content/uploads/2025/06/AGT_The_Pack_Drumline_CDV_IL2_t800_1708530661.jpg
END:VEVENT
END:VCALENDAR