BEGIN:VCALENDAR
VERSION:2.0
PRODID:-//Inland Empire Magazine - ECPv6.15.20//NONSGML v1.0//EN
CALSCALE:GREGORIAN
METHOD:PUBLISH
X-ORIGINAL-URL:https://inlandempiremagazine.com
X-WR-CALDESC:Events for Inland Empire Magazine
REFRESH-INTERVAL;VALUE=DURATION:PT1H
X-Robots-Tag:noindex
X-PUBLISHED-TTL:PT1H
BEGIN:VTIMEZONE
TZID:UTC
BEGIN:STANDARD
TZOFFSETFROM:+0000
TZOFFSETTO:+0000
TZNAME:UTC
DTSTART:20240101T000000
END:STANDARD
END:VTIMEZONE
BEGIN:VEVENT
DTSTART;TZID=UTC:20250301T093000
DTEND;TZID=UTC:20250511T163000
DTSTAMP:20260425T155730
CREATED:20250228T144735Z
LAST-MODIFIED:20250228T145521Z
UID:20274-1740821400-1746981000@inlandempiremagazine.com
SUMMARY:The Flower Fields
DESCRIPTION:For over sixty years\, Mother Nature has transformed the rolling hills of North San Diego County into one of the most spectacular and coordinated displays of natural color and beauty anywhere in the world. The 55-acres of Giant Tecolote Ranunculus flowers that make up The Flower Fields at Carlsbad Ranch® in Carlsbad\, California\, are in bloom for approximately six to eight weeks each year – from early March through early May – literally bringing the famous fields back to life. This annual burst of color\, which has become part of the area’s local heritage\, also is one of nature’s official ways of announcing the arrival of spring here in Southern California. \nThe Flower Fields are an alcohol and tobacco-free environment. Pets\, Emotional Support Animals\, Drones\, Balloons\, and Bicycles are also not permitted.
URL:https://inlandempiremagazine.com/event/the-flower-fields/
LOCATION:Carlsbad Ranch\, 5704 Paseo del Norte\,\, Carlsbad\, CA
CATEGORIES:Farmer's Market
ATTACH;FMTTYPE=image/webp:https://inlandempiremagazine.com/wp-content/uploads/2025/02/header-logo.webp
END:VEVENT
BEGIN:VEVENT
DTSTART;TZID=UTC:20250418T000000
DTEND;TZID=UTC:20250504T000000
DTSTAMP:20260425T155730
CREATED:20250328T194941Z
LAST-MODIFIED:20250328T194941Z
UID:20356-1744934400-1746316800@inlandempiremagazine.com
SUMMARY:A Midsummer Night’s Dream
DESCRIPTION:A Midsummer Night’s Dream\nby William Shakespeare\n\nDirected by Michael Shane Eastman (The Glass Menagerie\, Frankenstein\, Baskerville)\nApril 18th – May 4th\, 2025. \n\nFour young Athenians are in a romantic tangle. Lysander and Demetrius love Hermia; she loves Lysander and her friend Helena loves Demetrius.When the four venture into the Athenian woods to pursue their loves\, they become the focus of Oberon\, the King of the Fairies\, and his impish servant\, Puck.  Join us for this tale of magic\, mischief\, and mayhem that is sure to entertain!\n\n\n\nClick to Purchase Tickets
URL:https://inlandempiremagazine.com/event/a-midsummer-nights-dream/
LOCATION:RCP Arena Theatre\, 4026 14th St.\,\, Riverside
CATEGORIES:Shows
ATTACH;FMTTYPE=image/png:https://inlandempiremagazine.com/wp-content/uploads/2025/03/midsummer-night-1_orig.png
END:VEVENT
BEGIN:VEVENT
DTSTART;TZID=UTC:20250502T000000
DTEND;TZID=UTC:20250511T000000
DTSTAMP:20260425T155730
CREATED:20250424T233806Z
LAST-MODIFIED:20250425T183114Z
UID:20400-1746144000-1746921600@inlandempiremagazine.com
SUMMARY:The Wizard of Oz
DESCRIPTION:Join us on a Magical Journey with The Wizard of Oz! Presented by Legendary Productions and YPAC Live\, this enchanting stage adaptation of L. Frank Baum’s cherished tale is a must-see event that promises to captivate audiences of all ages! Step into the whimsical world of Oz as we follow the courageous Dorothy Gale on her unforgettable adventure from Kansas to the vibrant Land of Oz. Along the way\, she’ll meet a colorful cast of characters\, including the lovable Scarecrow\, the brave Tin Man\, and the timid Lion\, all while chasing her dreams and discovering the magic within herself. With a dazzling musical score inspired by the iconic MGM film\, this beloved production features unforgettable songs that will have you humming along\, such as “Over the Rainbow\,” “Munchkinland (Ding Dong! The Witch Is Dead)\,” “If I Only Had a Brain/a Heart/the Nerve\,” and “We’re Off to See the Wizard (Follow the Yellow Brick Road).” Don’t miss your chance to experience the joy and wonder of this timeless classic! Gather your family and friends and embark on a journey filled with laughter\, heart\, and dazzling performances. Tickets are selling fast—secure your seats today and prepare for a magical night at the theater! Adventure awaits down the yellow brick road! \nHosted at the Yucaipa Performing Arts Center and presented by Legendary Productions\, known for their outstanding crew and talented cast\, this production promises to enchant audiences just like their previous shows such as Little Shop of Horrors\, Addams Family\, Annie\, Beauty and the Beast\, Freaky Friday\, and many more!! \nGET YOUR TICKETS NOW\, MARK YOUR CALANDERS\, AND WE’LL SEE YOU THERE! \n\n\nFRIDAY 7PM (05/02/25)\n\n\n\nGET TICKETS HERE!\n\n\n\n\nSUNDAY 2PM (05/04/25)\n\n\n\nGET TICKETS HERE!\n\n\n\n\nFRIDAY 7PM (05/09/25)\n\n\n\nGET TICKETS HERE!\n\n\n\n\nSATURDAY 2PM (05/10/25)\n\n\n\nGET TICKETS HERE!\n\n\n\n\nSATURDAY 7PM (05/10/25)\n\n\n\nGET TICKETS HERE!\n\n\n\n\nSUNDAY 2PM (05/11/25)\n\n\n\nGET TICKETS HERE!
URL:https://inlandempiremagazine.com/event/the-wizard-of-oz-2/
LOCATION:Yucaipa Performing Arts Center\,\, 12062 California St.\,\, Yucaipa\, CA
CATEGORIES:Shows
ATTACH;FMTTYPE=image/jpeg:https://inlandempiremagazine.com/wp-content/uploads/2025/04/486714634_1278385467624501_7675602290497292974_n.jpg
END:VEVENT
BEGIN:VEVENT
DTSTART;TZID=UTC:20250502T000000
DTEND;TZID=UTC:20250526T000000
DTSTAMP:20260425T155730
CREATED:20250328T195458Z
LAST-MODIFIED:20250328T195458Z
UID:20362-1746144000-1748217600@inlandempiremagazine.com
SUMMARY:LA County Fair
DESCRIPTION:The LA County Fair puts the spotlight on all things creative in 2025 with its theme Art Unleashed. \nThe Fair has been a celebration of art for more than a century: home arts\, culinary arts\, visual arts\, performing arts\, fine arts. The art of having fun. The art of making memories. Celebrate artistry and mastery in all their diverse forms with the Fair’s immersive experience that promises to captivate all guests.
URL:https://inlandempiremagazine.com/event/la-county-fair/
LOCATION:Pomona Fairplex\, 1101 Mckinley\, Pomona\, CA
CATEGORIES:Fairs
ATTACH;FMTTYPE=image/webp:https://inlandempiremagazine.com/wp-content/uploads/2025/03/2025_LACountyfair_logo.webp
END:VEVENT
BEGIN:VEVENT
DTSTART;TZID=UTC:20250503T090000
DTEND;TZID=UTC:20250504T170000
DTSTAMP:20260425T155730
CREATED:20250424T234056Z
LAST-MODIFIED:20250424T234056Z
UID:20403-1746262800-1746378000@inlandempiremagazine.com
SUMMARY:Wings\, Tracks and Wheels
DESCRIPTION:Wings\, Tracks\, and Wheels 2025\nGet ready for a day of fun\, thrills\, and “Living History.”  This year’s “Wings\, Tracks\, and Wheels” is shaping up to be our biggest and best yet!  Get your tickets now for Saturday\, May 3rd or Sunday\, May 4th (or both!) \nWe’re saluting our military heritage with this two-day festival and we’ve got a great assortment of attractions and activities for everyone!  Join us as we pay tribute to the courageous soldiers\, Marines\, sailors\, and airmen of the First World War\, World War II\, Korea\, and Vietnam.  Doors to “Wings\, Tracks\, and Wheels” open at 9:00am and the event ends at 5:00pm.
URL:https://inlandempiremagazine.com/event/wings-tracks-and-wheels/
LOCATION:Planes of Fame Air Museum\, 14998 Cal Aero Drive\, Chino\, CA
CATEGORIES:Museums
ATTACH;FMTTYPE=image/jpeg:https://inlandempiremagazine.com/wp-content/uploads/2025/04/wtw-entrance-gate.jpg
END:VEVENT
BEGIN:VEVENT
DTSTART;TZID=UTC:20250510T000000
DTEND;TZID=UTC:20250517T000000
DTSTAMP:20260425T155730
CREATED:20250424T234922Z
LAST-MODIFIED:20250424T235444Z
UID:20416-1746835200-1747440000@inlandempiremagazine.com
SUMMARY:Charlotte’s Web
DESCRIPTION:Tickets\n\n\n\nSaturday\, May 10\, 2025\, 11:00 am\nBuy Tickets\n\n\n\n\nSaturday\, May 10\, 2025\, 2:00 pm\nBuy Tickets\n\n\n\n\nSaturday\, May 17\, 2025\, 11:00 am\nBuy Tickets\n\n\n\n\nSaturday\, May 17\, 2025\, 2:00 pm\nBuy Tickets\n\n\n\n\n\n\n\n\n\nInland Valley Repertory Theatre for Young Audiences’ production of the Children Association’s pick for “best American children’s book of the past two hundred years” makes its way to the stage\, reimagined as a heartwarming play about the familiar relationship between a young pig and an extraordinary spider. Join the classic characters of Wilbur\, Charlotte\, and more in this beautiful play about friendship that your family won’t be quick to forget.
URL:https://inlandempiremagazine.com/event/charlottes-web/
LOCATION:Lewis Family Playhouse\, 12505 Cultural Center Drive\,\, Rancho Cuc
CATEGORIES:Shows
ATTACH;FMTTYPE=image/png:https://inlandempiremagazine.com/wp-content/uploads/2025/04/CharlottesWeb1080x1080.png
END:VEVENT
BEGIN:VEVENT
DTSTART;TZID=UTC:20250510T120000
DTEND;TZID=UTC:20250510T160000
DTSTAMP:20260425T155730
CREATED:20250424T234322Z
LAST-MODIFIED:20250424T234322Z
UID:20408-1746878400-1746892800@inlandempiremagazine.com
SUMMARY:Mother’s Day Festivities
DESCRIPTION:Join The Shops at Dos Lagos for Mother’s Day Festivities on Saturday\, May 10th\, 2025 from 12pm-4pm! \n Face Painting*\nBalloon Art*\n Kid’s Crafts\, Game & Prizes*\n Music\, Vendors & More!\n(All activities are additional fees. *While supplies last!)\n2780 Cabot Drive\, Corona\, CA 92883
URL:https://inlandempiremagazine.com/event/mothers-day-festivities/
LOCATION:The Shops at Dos Lagos\, 2755 Lakeshore Dr.\, Corona\, CA
CATEGORIES:Holiday Celebrations
ATTACH;FMTTYPE=image/jpeg:https://inlandempiremagazine.com/wp-content/uploads/2025/04/FB-Banner-Festivities-1-scaled-1.jpg
END:VEVENT
BEGIN:VEVENT
DTSTART;TZID=UTC:20250510T193000
DTEND;TZID=UTC:20250510T193000
DTSTAMP:20260425T155730
CREATED:20250424T234651Z
LAST-MODIFIED:20250424T234718Z
UID:20413-1746905400-1746905400@inlandempiremagazine.com
SUMMARY:Cinematic Soundscapes
DESCRIPTION:Theme from “Jurassic Park”\nJohn Williams\nBorn 1932 in Flushing\, NY. \nComposed in 1993| 5 minutes\nScored for 3 flutes\, piccolo\, 2 oboes\, English horn\, 3 clarinets\, bass clarinet\, 3 bassoons\, contrabassoon\, 4 horns\, 3 trumpets\, 3 trambones\, tuba\, timpani\, percussion\, harp\, piano\, strings \n\n\n\n\n\n\n\nSuite from “Jaws”\nJohn Williams\nBorn 1932 in Flushing\, NY. \nComposed in 1975| 8 minutes\nScored for 3 flutes\, piccolo\, 2 oboes\, English horn\, 2 clarinets\, bass clarinet\, 3 bassoons\, contrabassoon\, 4 horns\, 3 trumpets\, 4 trombones\,  tuba\, timpani\, percussion\, harp\, piano\, celeste\, strings \n\n\n\n\n\n\n\n“Adventures of Robin Hood” Suite\nErich Wolfgang Korngold\nBorn 1897 in Brno\, Czech Republic. Died 1957 in Hollywood\, CA. \nComposed in 1938| 18 minutes\nScored for 2 flutes\, piccolo\, 2 oboes\, English horn\, 2 clarinets\, bass clarinet\, 2 bassoons\, contrabassoon\, alto saxophone\, tenor saxophone\, 4 horns\, 3 trumpets\, 3 trombones\, tuba\, timpani\, percussion\, harp\, piano\, celeste\, guitar\, strings \n\n\n\n\n\n\n\nTara: A Tone Poem for Orchestra\nMax Steiner\nBorn 1888 in Vienna\, Austria. Died 1971 in Hollywood\, CA. \nComposed in 1939| 4 minutes\nScored for 2 flutes\, 2 oboes\, 2 clarinets\, bass clarinet\, 2 bassoons\, 4 horns\, 3 trumpets\, 3 trombones\, tuba\, timpani\, percussion\, harp\, and strings \n\n\n\n\n\n\n\n“Vertigo” Suite\nBernard Herrmann\nBorn 1911 in New York\, NY. Died 1975 in Hollywood\, CA. \nComposed in 1958| 11 minutes\nScored for 3 flutes\, 2 oboes\, English horn\, 3 clarinets\, 2 bassoons\, contrabassoon\, 4 horns\, 3 trumpets\, tuba\, timpani\, percussion\, celeste\, synthesizer\, harp\, and strings \n\n\n\n\n\n\n\n“North by Northwest” Overture\nBernard Herrmann\nBorn 1911 in New York\, NY. Died 1975 in Hollywood\, CA. \nComposed in 1959| 4 minutes\nScored for 2 flutes\, piccolo\, 2 oboes\, English horn\, 3 clarinets\, 2 bass clarinets\, 2 bassoons\, contrabassoon\, 4 horns\, 3 trumpets\, 3 trombones\, tuba\, timpani\, percussion\, harp\, and strings \n\n\n\n\n\n\n\n“Psycho” A Short Suite\nBernard Herrmann\nBorn 1911 in New York\, NY. Died 1975 in Hollywood\, CA. \nComposed in 1960| 7 minutes\nScored for strings \n\n\n\n\n\n\n\n“Cinema Paradiso” Main Theme\nEnnio Morricone\nBorn 1928 in Rome\, Italy. Died 2020 in Rome\, Italy. \nComposed in 1988| 3 minutes\nScored for alto saxophone\, piano\, synthesizer\, and strings \n\n\n\n\n\n\n\n“Childhood & Manhood” from “Cinema Paradiso”\nEnnio Morricone\nBorn 1928 in Rome\, Italy. Died 2020 in Rome\, Italy. \nComposed in 1988| 2 minutes\nScored for flute\, 2 alto flutes\, clarinet\, alto saxophone\, 3 horns\, piano\, synthesizer\, and strings \n\n\n\n\n\n\n\n“Love Theme” from “Cinema Paradiso”\nEnnio Morricone\nBorn 1928 in Rome\, Italy. Died 2020 in Rome\, Italy. \nComposed in 1988| 3 minutes\nScored for flute\, 2 alto flutes\, clarinet\, alto saxophone\, 3 horns\, piano\, synthesizer\, and strings \n\n\n\n\n\n\n\nFlying Theme from “ET The Extra-Terrestrial”\nJohn Williams\nBorn 1932 in Flushing\, NY. \nComposed in 1982| 4 minutes\nScored for 2 flutes\, piccolo\, 2 oboes\, 2 clarinets\, 3 bassoons\, 4 horns\, 3 trumpets\, 3 trombones\, tuba\, timpani\, percussion\, harp\, piano and strings \n\n\n\n\n\n\n\n“Throne Room & End Title” from “Star Wars: A New Hope”\nJohn Williams\nBorn 1932 in Flushing\, NY. \nComposed in 1977| 5 minutes\nScored for 3 flutes\, piccolo\, 2 oboes\, 2 clarinets\, bass clarinet\, 2 bassoons\, 4 horns\, 3 trumpets\, 3 trombones\, tuba\, timpani\, percussion\, harp\, piano\, celeste and strings
URL:https://inlandempiremagazine.com/event/cinematic-soundscapes/
LOCATION:Memorial Chapel: University of Redlands\, 1200 Colton Ave\,\, Redlands\, CA
CATEGORIES:Shows
ATTACH;FMTTYPE=image/png:https://inlandempiremagazine.com/wp-content/uploads/2025/04/667c8d9ae5285284d41487b6_Cinematic-Soundscapes-1.png
END:VEVENT
BEGIN:VEVENT
DTSTART;TZID=UTC:20250517T100000
DTEND;TZID=UTC:20250518T180000
DTSTAMP:20260425T155730
CREATED:20250424T235720Z
LAST-MODIFIED:20250424T235720Z
UID:20425-1747476000-1747591200@inlandempiremagazine.com
SUMMARY:Comic Con Revolution
DESCRIPTION:At the absolute core of what we do are the content creators themselves – the people who create the comics\, games\, toys\, TV\, movies and more that we all love. Without their tireless dedication to creating the fantastic worlds we all get lost in\, events like Comic Con Revolution would not be possible. We strive to create the best possible experience for attendees\, exhibitors and guests alike. Whether it’s faster & safer security\, food truck options\, photo ops\, unforgettable once in a life timetime events. Comic Con Revolution is all about the experience.
URL:https://inlandempiremagazine.com/event/comic-con-revolution-2/
LOCATION:Ontario Convention Center\, 2000 E Convention Center Way\,\, Ontario\, CA
CATEGORIES:Expo
ATTACH;FMTTYPE=image/webp:https://inlandempiremagazine.com/wp-content/uploads/2025/04/logo-1.webp
END:VEVENT
BEGIN:VEVENT
DTSTART;TZID=UTC:20250517T190000
DTEND;TZID=UTC:20250517T220000
DTSTAMP:20260425T155730
CREATED:20250424T235400Z
LAST-MODIFIED:20250424T235400Z
UID:20419-1747508400-1747519200@inlandempiremagazine.com
SUMMARY:Sublime Tribute & Bob Marley Tribute Concert
DESCRIPTION:Sublime Tribute By: Doin’ Time\nBob Marley Tribute By: One Drop Redemption \nDoors Open: 5:30pm* \nShowtime: 7:00PM \nPURCHASE TICKETS ONLY ONLINE: DLtickets.com \nMUST PURCHASE TICKETS ONLINE – RESERVED SEATING ONLY\nALL TICKET SALES ARE FINAL (No Outside Food/Drinks/Chairs)\n*Please show up early to redeem your wristbands at the door.
URL:https://inlandempiremagazine.com/event/sublime-tribute-bob-marley-tribute-concert/
LOCATION:Dos Lagos Amphitheater\, 2755 Lakeshore Dr\, Corona\, CA
CATEGORIES:Concerts
ATTACH;FMTTYPE=image/jpeg:https://inlandempiremagazine.com/wp-content/uploads/2025/04/BOOST-Sublime-Bob-Marley-Tribute-2025.jpg
END:VEVENT
BEGIN:VEVENT
DTSTART;TZID=UTC:20250523T213000
DTEND;TZID=UTC:20250523T213000
DTSTAMP:20260425T155730
CREATED:20250425T000017Z
LAST-MODIFIED:20250425T000038Z
UID:20428-1748035800-1748035800@inlandempiremagazine.com
SUMMARY:Broadway’s Next Hit Musical
DESCRIPTION:Tickets\n\n\n\nFriday\, May 23\, 2025\, 9:30 pm\nBuy Tickets\n\n\n\n\n\n\n\n\n\nPLEASE BE AWARE: The 9:30 PM performance is an AFTER DARK performance for 18+ adults only. This is NOT family friendly. \nWhose Line Is It Anyway meets The Tony Awards Every song is fresh. Every scene is new. Every night is different. It’s all improvised and it’s all funny. The New York Times calls Broadway’s Next Hit Musical “Hilarious!” Time Out NY says “At last! A musical of\, for\, and by the people.” Broadway’s Next Hit Musical is the only unscripted theatrical awards show. Have you heard of the TONY awards? Well\, Broadway’s Next Hit Musical is…The PHONY Awards! The audience members write down made up song titles and our master improvisers gather these suggestions and present them as “nominated songs” for this coveted award. We create spontaneous scenes and songs filled with great dancing\, catchy melodies\, and tons of laughter. The audience votes for their favorite song and watches as the cast turns that song into a full-blown improvised musical – complete with memorable characters\, witty dialogue\, and plot twists galore. BNHM has been seen recently throughout the United States and in New York City at The Triad Theater\, The Tribeca Film Festival\, and at The New York Musical Theater Festival\, among many other locations. Under the direction of improv veterans Rob Schiffmann and Deb Rabbai\, Theater Week hailed the show as “brilliant” and The New York Post called Broadway’s Next Hit Musical “remarkable.” Don’t miss the next great American musical – it could be written by YOU!
URL:https://inlandempiremagazine.com/event/broadways-next-hit-musical/
LOCATION:Lewis Family Playhouse\, 12505 Cultural Center Drive\,\, Rancho Cuc
CATEGORIES:Shows
ATTACH;FMTTYPE=image/png:https://inlandempiremagazine.com/wp-content/uploads/2025/04/BNHM1080x1080-1.png
END:VEVENT
BEGIN:VEVENT
DTSTART;TZID=UTC:20250524T000000
DTEND;TZID=UTC:20250629T000000
DTSTAMP:20260425T155730
CREATED:20250527T210728Z
LAST-MODIFIED:20250527T210728Z
UID:20492-1748044800-1751155200@inlandempiremagazine.com
SUMMARY:The Wizard of Oz
DESCRIPTION:A DELIGHTFUL JOURNEY TO ENCHANTMENT \nShare the joy\, fun and adventure as Dorothy takes a musical trip “down that dusty road” in Kansas to the yellow brick road that leads to Oz.  The beloved Scarecrow\, Tin Man and Cowardly Lion are on hand to help face treacherous challenges\, a wicked Witch and a wily Wizard.  All discover there truly is “no place like home” in this touching Inland Empire favorite.
URL:https://inlandempiremagazine.com/event/the-wizard-of-oz-3/
LOCATION:LifeHouse Theater\, 1135 N. Church St.\,\, Redlands\, CA
CATEGORIES:Shows
ATTACH;FMTTYPE=image/png:https://inlandempiremagazine.com/wp-content/uploads/2025/05/Wizard-of-Oz-logo-Shirt-Design.png
END:VEVENT
BEGIN:VEVENT
DTSTART;TZID=UTC:20250524T100000
DTEND;TZID=UTC:20250525T000000
DTSTAMP:20260425T155730
CREATED:20250425T000942Z
LAST-MODIFIED:20250425T000942Z
UID:20431-1748080800-1748131200@inlandempiremagazine.com
SUMMARY:Redlands Festival of Arts
DESCRIPTION:Art show and sale\, musical entertainment\, chalk art competition\, beer and wine garden\, food vendors\, kids’ arts and crafts.
URL:https://inlandempiremagazine.com/event/redlands-festival-of-arts-2/
LOCATION:Smiley Park\, 125 W. Vine St\, Redlands\, CA
CATEGORIES:Expo
ATTACH;FMTTYPE=image/jpeg:https://inlandempiremagazine.com/wp-content/uploads/2025/04/RFA-Am-Goth-4-9-25-150x150-1.jpeg
END:VEVENT
BEGIN:VEVENT
DTSTART;TZID=UTC:20250524T100000
DTEND;TZID=UTC:20250622T190000
DTSTAMP:20260425T155730
CREATED:20250425T001330Z
LAST-MODIFIED:20250425T002221Z
UID:20435-1748080800-1750618800@inlandempiremagazine.com
SUMMARY:Koroneburg Renaissance Festival
DESCRIPTION:The festival began in 1998\, which means we’ve been around for more than 20 years! Entertaining families and friends for such a long time is a true privilege and a testament of our fantastic vendors\, entertainers\, and staff. \nAfter almost two decades of success as a renaissance festival\, we took a year long break–before reopening under new\, exciting management! This change has allowed the festival to continue to grow and thrive (which we’re all thrilled to see).
URL:https://inlandempiremagazine.com/event/koroneburg-renaissance-festival-3/
LOCATION:Riverview Recreation Park\, 4600 Baron Drive\, Eastvale\, CA
CATEGORIES:Festivals
ATTACH;FMTTYPE=image/webp:https://inlandempiremagazine.com/wp-content/uploads/2025/04/19400080_10154472944541987_1363907918125184426_n.jpg.bv_resized_desktop.jpg.bv_.webp
END:VEVENT
BEGIN:VEVENT
DTSTART;TZID=UTC:20250531T193000
DTEND;TZID=UTC:20250531T193000
DTSTAMP:20260425T155730
CREATED:20250425T002533Z
LAST-MODIFIED:20250425T002605Z
UID:20438-1748719800-1748719800@inlandempiremagazine.com
SUMMARY:Ronstadt Revival
DESCRIPTION: Saturday\, May 31\, 2025\, 7:30 pm\n\n\n\n\n\nBuy Tickets\nSelect your seats here!\n\n\n\n\n\n\nIn a career spanning over five decades\, Linda Ronstadt has captured our hearts with her enchanting voice and has left an indelible mark on the landscape of popular music. Ronstadt Revival featuring Shannon Rae is the premier tribute to Linda Ronstadt. A full 7-piece band\, including fiddle and pedal steel\, to bring you the true authentic sound of the Ronstadt catalog. Real\, raw and 100% LIVE music. From Linda’s 1967 beginnings with The Stone Poneys\, to her amazing renditions in the 70s of songs by beloved songwriters like Smokey Robinson\, Warren Zevon\, Lowell George\, The Eagles and The Rolling Stones\, to her 80s smash album Mad Love with its New Wave vibe. Shannon and her Ronstadt Revival band will take you on a timeless journey\, weaving in stories of Linda’s amazing life and musical career. Come sing along to all of your favorite hits including\, You’re No Good\, Blue Bayou\, When Will I Be Loved\, Different Drum and so much more! \n 
URL:https://inlandempiremagazine.com/event/ronstadt-revival-2/
LOCATION:Lewis Family Playhouse\, 12505 Cultural Center Drive\,\, Rancho Cuc
CATEGORIES:Shows
ATTACH;FMTTYPE=image/png:https://inlandempiremagazine.com/wp-content/uploads/2025/04/LindaRonstadt1080x1080.png
END:VEVENT
END:VCALENDAR