BEGIN:VCALENDAR
VERSION:2.0
PRODID:-//Inland Empire Magazine - ECPv6.15.20//NONSGML v1.0//EN
CALSCALE:GREGORIAN
METHOD:PUBLISH
X-ORIGINAL-URL:https://inlandempiremagazine.com
X-WR-CALDESC:Events for Inland Empire Magazine
REFRESH-INTERVAL;VALUE=DURATION:PT1H
X-Robots-Tag:noindex
X-PUBLISHED-TTL:PT1H
BEGIN:VTIMEZONE
TZID:UTC
BEGIN:STANDARD
TZOFFSETFROM:+0000
TZOFFSETTO:+0000
TZNAME:UTC
DTSTART:20230101T000000
END:STANDARD
END:VTIMEZONE
BEGIN:VEVENT
DTSTART;TZID=UTC:20241120T000000
DTEND;TZID=UTC:20241231T000000
DTSTAMP:20260426T001008
CREATED:20241029T021955Z
LAST-MODIFIED:20241029T021955Z
UID:18203-1732060800-1735603200@inlandempiremagazine.com
SUMMARY:Polar Express Train Ride
DESCRIPTION:Set to the sounds of the motion picture soundtrack\, passengers will relive the magic of the classic story as they are whisked away on THE POLAR EXPRESS™ for a magical one-hour trip to meet Santa. Once on board\, your car hosts will work their way through the coach and punch your golden ticket before hot chocolate and delicious Walker’s Shortbread are served by dancing chefs. Passengers then read along with the classic children’s book\, The Polar Express\, by Chris Van Allsburg.\n\n\nSanta and his helpers board the train to greet passengers and each guest is given the first gift of Christmas – a silver sleigh bell. During the trip\, characters on each car lead passengers in caroling and onboard entertainment just like in the film! Each guest will take home a keepsake sleigh bell in addition to the wonderful memories made on this magical trip. \nWe have consolidated our event to one location at the Southern California Railway Museum in Perris\, CA. The Fillmore & Western Railway in Fillmore\, CA is no longer operating excursions and will not host the event in 2024. \nPlease Note: Based on feedback from our guests and a continued emphasis on improving the show inside the train\, this year’s event will not feature an outdoor North Pole set. Santa will still board the train to greet passengers and present The First Gift of Christmas at the appropriate time during the show as he does at our other major market locations. \nFurther event information is available in Frequently Asked Questions.
URL:https://inlandempiremagazine.com/event/polar-express-train-ride/
LOCATION:Southern California Railway Museum\, 2201 S. “A” Street\,\, Perris\, CA
CATEGORIES:Holiday Celebrations
ATTACH;FMTTYPE=image/jpeg:https://inlandempiremagazine.com/wp-content/uploads/2024/10/026_polar_chi_112219.jpg
END:VEVENT
BEGIN:VEVENT
DTSTART;TZID=UTC:20241206T000000
DTEND;TZID=UTC:20241208T000000
DTSTAMP:20260426T001008
CREATED:20241122T164358Z
LAST-MODIFIED:20241122T164358Z
UID:19796-1733443200-1733616000@inlandempiremagazine.com
SUMMARY:Harvest Festival: Original Art & Craft Show
DESCRIPTION:America’s favorite holiday original arts & crafts event returns to Fairplex with one-of-a-kind items\, specialty foods and strolling entertainment. Family-owned and operated\, we take pride in upholding the tradition of excellence that has been enjoyed for 50 years. Our goal is to provide you a one-of-a-kind shopping experience! \nMore Information
URL:https://inlandempiremagazine.com/event/harvest-festival-original-art-craft-show-2/
LOCATION:Fairplex\, 1101 W McKinley Ave.\,\, Pomona\, CA
CATEGORIES:Festivals
ATTACH;FMTTYPE=image/jpeg:https://inlandempiremagazine.com/wp-content/uploads/2024/11/12.01-03-Harvest-Festival-Banner.jpg
END:VEVENT
BEGIN:VEVENT
DTSTART;TZID=UTC:20241206T000000
DTEND;TZID=UTC:20241222T000000
DTSTAMP:20260426T001008
CREATED:20241122T164653Z
LAST-MODIFIED:20241122T164653Z
UID:19799-1733443200-1734825600@inlandempiremagazine.com
SUMMARY:A Sherlock Carol
DESCRIPTION:Holiday-mystery mashup\nDecember 6-22\, 2024\nDirected by Cindi East \n7:30 PM — December 6\, 7\, 13\, 14\, 20\, & 21\n2:00 PM — December 8\, 15\, 21\, & 22 \nAuditions: October 14 & 15 \nBuy Tickets Online \nA delightful reimagining of perennial favorites! The resulting combination almost defies description\, but\, to begin with\, Moriarty is dead and Sherlock Holmes is a haunted man. When a grown-up Tiny Tim asks Holmes to investigate the death of Ebenezer Scrooge\, the Great Detective must use his gifts to solve a Dickens of a Christmas mystery! Six actors take on the beloved characters of Arthur Conan Doyle and Charles Dickens in this heartwarming and highly theatrical holiday treat for all ages. Don’t miss it!
URL:https://inlandempiremagazine.com/event/a-sherlock-carol/
LOCATION:Redlands Footlighters\, 1810 Barton Road\, Redlands\, CA
CATEGORIES:Shows
ATTACH;FMTTYPE=image/png:https://inlandempiremagazine.com/wp-content/uploads/2024/11/Sherlock-with-author-1080x1080-1.png
END:VEVENT
BEGIN:VEVENT
DTSTART;TZID=UTC:20241207T000000
DTEND;TZID=UTC:20241215T000000
DTSTAMP:20260426T001008
CREATED:20241122T165330Z
LAST-MODIFIED:20241122T165330Z
UID:19805-1733529600-1734220800@inlandempiremagazine.com
SUMMARY:Holiday Spectacular: Christmas Is...
DESCRIPTION:Ring in the season with traditional choral selections by the world-famous Citrus Singers\, along with featured vocal and dance performances in Act I. Then\, hop in Santa’s sleigh and experience Christmas around the world in an all-new Broadway-style holiday musical featuring stand-out performances\, a live orchestra\, dazzling sets\, and a touching story sure to restore your sense of wonder and cheer! \nIf you would like to be a part of the show\, information on the Musical Theatre Arts program can be found here.\nGolden Circle is the financial support arm for the Citrus Singers program. All donations are through the Citrus College Foundation and are tax-deductible.
URL:https://inlandempiremagazine.com/event/holiday-spectacular-christmas-is/
LOCATION:Haugh Performing Art Center\, 1000 West Foothill Boulevard\, Glendora\, CA
CATEGORIES:Shows
ATTACH;FMTTYPE=image/jpeg:https://inlandempiremagazine.com/wp-content/uploads/2024/11/Christmas700_B-copy-Medium.jpeg
END:VEVENT
BEGIN:VEVENT
DTSTART;TZID=UTC:20241207T110000
DTEND;TZID=UTC:20241207T160000
DTSTAMP:20260426T001008
CREATED:20241122T164901Z
LAST-MODIFIED:20241122T164901Z
UID:19802-1733569200-1733587200@inlandempiremagazine.com
SUMMARY:The Silhouettes: The Light of Christmas
DESCRIPTION:Tickets\n\n\n\nSaturday\, December 7\, 2024\, 11:00 am\nBuy Tickets\n\n\n\n\nSaturday\, December 7\, 2024\, 4:00 pm\nBuy Tickets\n\n\n\n\n\n\n\n\n\nExperience the spellbinding magic of The Silhouettes as they shine light into darkness! Having wowed audiences on America’s Got Talent and NBC’s AGT Holiday Spectacular\, this world-renowned shadowdance company now travels the globe spreading joy. Through light\, color\, video\, dance\, acting\, and mime\, celebrate the holiday season with your whole family in this unique storytelling performance of depth\, intrigue\, beauty\, and mystique.
URL:https://inlandempiremagazine.com/event/the-silhouettes-the-light-of-christmas/
LOCATION:Lewis Family Playhouse\, 12505 Cultural Center Drive\,\, Rancho Cuc
CATEGORIES:Shows
ATTACH;FMTTYPE=image/png:https://inlandempiremagazine.com/wp-content/uploads/2024/11/Silhouettes600x600_0.png
END:VEVENT
BEGIN:VEVENT
DTSTART;TZID=UTC:20241210T200000
DTEND;TZID=UTC:20241210T200000
DTSTAMP:20260426T001008
CREATED:20241122T165542Z
LAST-MODIFIED:20241122T170721Z
UID:19808-1733860800-1733860800@inlandempiremagazine.com
SUMMARY:A Charlie Brown Christmas with David Benoit
DESCRIPTION: Tuesday\, December 10\, 2024\, 8:00 pm\n\n\n\n\n\nBuy Tickets\nSelect your seats here!\n\n\n\n\n\n\nGet your family into the holiday spirit with an evening of Vince Guaraldi tunes from A Charlie Brown Christmas starring five-time Grammy nominee jazz pianist\, David Benoit! Also appearing with Benoit is vocalist\, Courtney Fortune! Don’t miss this must-see show featuring the cherished holiday songs that have charmed generations.
URL:https://inlandempiremagazine.com/event/a-charlie-brown-christmas-with-david-benoit/
LOCATION:Lewis Family Playhouse\, 12505 Cultural Center Drive\,\, Rancho Cuc
CATEGORIES:Shows
ATTACH;FMTTYPE=image/png:https://inlandempiremagazine.com/wp-content/uploads/2024/11/DavidBenoit600x600_0.png
END:VEVENT
BEGIN:VEVENT
DTSTART;TZID=UTC:20241214T100000
DTEND;TZID=UTC:20241215T170000
DTSTAMP:20260426T001008
CREATED:20241122T165742Z
LAST-MODIFIED:20241122T165742Z
UID:19811-1734170400-1734282000@inlandempiremagazine.com
SUMMARY:RailGiants Train Museum
DESCRIPTION:RailGiants Train Museum Dec. 2024\n\n\n\n\n\n\nDescription\nRailGiants Train Museum at the Los Angeles County Fairgrounds in Pomona\, California is a historical journey back to the glory days of the American Railroad. \nOur Museum houses some of the country’s most well-preserved Locomotives\, which includes several sole survivors of their respective classes. Our RailGiants collection contains two of the four surviving 3-Cylinder steam locomotives; SP #5021 and UP #9000. The largest diesel locomotive\, a Union Pacific “Centennial\,” is also here. In addition to our locomotives\, we have various pieces of Rolling Stock (freight and passenger cars)\, our historic Arcadia Depot\, Library Archives\, and Gift Shop. \nWe are open free to the public during the second weekend of each month\, except in May\, from 10 am to 5 pm. Ample parking is available. \nLearn More
URL:https://inlandempiremagazine.com/event/railgiants-train-museum-6/
LOCATION:Fairplex\, 1101 W McKinley Ave.\,\, Pomona\, CA
CATEGORIES:Shows
ATTACH;FMTTYPE=image/jpeg:https://inlandempiremagazine.com/wp-content/uploads/2024/11/RailGiants-Banner-1.jpg
END:VEVENT
BEGIN:VEVENT
DTSTART;TZID=UTC:20241215T190000
DTEND;TZID=UTC:20241215T190000
DTSTAMP:20260426T001008
CREATED:20241122T170010Z
LAST-MODIFIED:20241122T170645Z
UID:19814-1734289200-1734289200@inlandempiremagazine.com
SUMMARY:Dinner & Dueling Pianos
DESCRIPTION:DINNER & DUELING PIANOS | DECEMBER 15\n\n\n\n\nGET TICKETS HERE!\n\n\n\n\nGet ready to jingle and mingle at our Dinner & Dueling Pianos event on December 15th at the YPAC! Indulge in a festive catered dinner and get into the holiday spirit with an electrifying Dueling Pianos show! 🎹🎄 Hurry and grab your tickets now as seats are limited – this holly\, jolly event is one not to be missed! 🎁🌟 \nDoors @ 5PM \nDinner @ 6PM \nLOCATION: YUCAIPA PERFORMING ARTS CENTER | INDOOR THEATER
URL:https://inlandempiremagazine.com/event/dinner-dueling-pianos/
LOCATION:Yucaipa Performing Arts Center\,\, 12062 California St.\,\, Yucaipa\, CA
CATEGORIES:Holiday Celebrations
ATTACH;FMTTYPE=image/jpeg:https://inlandempiremagazine.com/wp-content/uploads/2024/11/dueling-pianos-FB-Medium.jpeg
END:VEVENT
BEGIN:VEVENT
DTSTART;TZID=UTC:20241222T130000
DTEND;TZID=UTC:20241222T170000
DTSTAMP:20260426T001008
CREATED:20241122T170229Z
LAST-MODIFIED:20241122T170229Z
UID:19817-1734872400-1734886800@inlandempiremagazine.com
SUMMARY:Campana Sobre Campana: Christmas in Mexico
DESCRIPTION:Tickets\n\n\n\nSunday\, December 22\, 2024\, 1:00 pm\nBuy Tickets\n\n\n\n\nSunday\, December 22\, 2024\, 5:00 pm\nBuy Tickets\n\n\n\n\n\n\n\n\n\nMariachi Garibaldi de Jaime Cuéllar and Ballet Folklorico del Rio Grande invite you to celebrate the holiday season with Campana Sobre Campana: Christmas in Mexico! Named for the beloved Andalusian Christmas Carol\, this vibrant show weaves cherished Mexican traditions into a magical story of the season!  Join them for an unforgettable program where every note and dance step embodies the rich cultural tapestry of Christmas in Mexico!
URL:https://inlandempiremagazine.com/event/campana-sobre-campana-christmas-in-mexico/
LOCATION:Lewis Family Playhouse\, 12505 Cultural Center Drive\,\, Rancho Cuc
CATEGORIES:Holiday Celebrations
ATTACH;FMTTYPE=image/png:https://inlandempiremagazine.com/wp-content/uploads/2024/11/campana-pic.png
END:VEVENT
BEGIN:VEVENT
DTSTART;TZID=UTC:20241222T160000
DTEND;TZID=UTC:20241222T160000
DTSTAMP:20260426T001008
CREATED:20241122T170431Z
LAST-MODIFIED:20241122T170450Z
UID:19820-1734883200-1734883200@inlandempiremagazine.com
SUMMARY:A John Rutter Christmas
DESCRIPTION:John Rutter is among the most admired and prolific composers of choral music alive today.  Our holiday concert features his setting of Magnificat presented with a chamber orchestra and Philip Hoch on organ. Other selections include Rutter’s arrangements of Christmas carols such as Deck the Hall\, The Holly and the Ivy\, I Saw Three Ships\, and O Holy Night. \nConcert Sponsor Marilyn Solter\n\n\n\n\nTickets on Sale Now\n\n\n\n\nDownload a Concert Flyer
URL:https://inlandempiremagazine.com/event/a-john-rutter-christmas/
LOCATION:Memorial Chapel: University of Redlands\, 1200 Colton Ave\,\, Redlands\, CA
CATEGORIES:Holiday Celebrations
ATTACH;FMTTYPE=image/jpeg:https://inlandempiremagazine.com/wp-content/uploads/2024/11/XmasDec24horiz.jpg
END:VEVENT
END:VCALENDAR