BEGIN:VCALENDAR
VERSION:2.0
PRODID:-//Inland Empire Magazine - ECPv6.15.20//NONSGML v1.0//EN
CALSCALE:GREGORIAN
METHOD:PUBLISH
X-ORIGINAL-URL:https://inlandempiremagazine.com
X-WR-CALDESC:Events for Inland Empire Magazine
REFRESH-INTERVAL;VALUE=DURATION:PT1H
X-Robots-Tag:noindex
X-PUBLISHED-TTL:PT1H
BEGIN:VTIMEZONE
TZID:UTC
BEGIN:STANDARD
TZOFFSETFROM:+0000
TZOFFSETTO:+0000
TZNAME:UTC
DTSTART:20220101T000000
END:STANDARD
END:VTIMEZONE
BEGIN:VEVENT
DTSTART;TZID=UTC:20231019T183000
DTEND;TZID=UTC:20231019T183000
DTSTAMP:20260423T054213
CREATED:20230928T020006Z
LAST-MODIFIED:20230928T020035Z
UID:10310-1697740200-1697740200@inlandempiremagazine.com
SUMMARY:Spirit Walk
DESCRIPTION:ONE NIGHT ONLY\nOctober 19th\, 2023\n6:30 PM\n$40 per Ticket \nIt’s Halloween season\, where ghoulish\, scary fun abounds!\nDo you love ghost stories?  Do you love zombies?  Then join us for pre-show tricks and treats\, preview stories from 2023’s Ghost Walk\, enjoy a silent auction\, and then settle in for a full\, live preview performance of Night of the Living Dead\, adapted and directed by Ron Milts!
URL:https://inlandempiremagazine.com/event/spirit-walk/
LOCATION:RCP Arena Theatre\, 4026 14th St.\,\, Riverside
CATEGORIES:Movies
ATTACH;FMTTYPE=image/jpeg:https://inlandempiremagazine.com/wp-content/uploads/2023/09/spirit-walk_orig.jpg
END:VEVENT
END:VCALENDAR