BEGIN:VCALENDAR
VERSION:2.0
PRODID:-//Inland Empire Magazine - ECPv6.15.20//NONSGML v1.0//EN
CALSCALE:GREGORIAN
METHOD:PUBLISH
X-WR-CALNAME:Inland Empire Magazine
X-ORIGINAL-URL:https://inlandempiremagazine.com
X-WR-CALDESC:Events for Inland Empire Magazine
REFRESH-INTERVAL;VALUE=DURATION:PT1H
X-Robots-Tag:noindex
X-PUBLISHED-TTL:PT1H
BEGIN:VTIMEZONE
TZID:UTC
BEGIN:STANDARD
TZOFFSETFROM:+0000
TZOFFSETTO:+0000
TZNAME:UTC
DTSTART:20230101T000000
END:STANDARD
END:VTIMEZONE
BEGIN:VEVENT
DTSTART;TZID=UTC:20240719T110000
DTEND;TZID=UTC:20240818T230000
DTSTAMP:20260423T211606
CREATED:20240624T180356Z
LAST-MODIFIED:20240624T180356Z
UID:17900-1721386800-1724022000@inlandempiremagazine.com
SUMMARY:OC Fair
DESCRIPTION:The 2024 OC Fair is set for July 19 – Aug. 18\nWe are thrilled to welcome everyone back for “Always a Good Time”. Advance ticket purchase is required as we are limiting the number of admission tickets available for each day. Choose your days and plan your summer! \nTickets on sale now!\nNo service fees on OC Fair admission tickets! \nBuy Tickets
URL:https://inlandempiremagazine.com/event/oc-fair/
LOCATION:OC Fair & Event Center\, 88 Fair Dr.\,\, Costa Mesa\, CA
CATEGORIES:Fairs
ATTACH;FMTTYPE=image/png:https://inlandempiremagazine.com/wp-content/uploads/2024/06/24-girl-baby-pigs.png
END:VEVENT
BEGIN:VEVENT
DTSTART;TZID=UTC:20241019T110000
DTEND;TZID=UTC:20241019T150000
DTSTAMP:20260423T211606
CREATED:20240925T192710Z
LAST-MODIFIED:20240925T192740Z
UID:18128-1729335600-1729350000@inlandempiremagazine.com
SUMMARY:Shake or Treat Earthquake and Emergency Preparedness Fair
DESCRIPTION:Come by in your costume to receive special treats plus have the opportunity to learn earthquake and emergency preparedness safety from our partners! From earthquakes to wildfires\, we want you to be prepared for any disaster situation. By participating in preparedness training programs and learning about emergency management\, we’ll help you stay one step ahead of any crisis situation. This free event offers residents the opportunity to learn how to prepare themselves\, their families\, their homes\, and their neighborhoods for wildfires\, earthquakes\, and other disasters. The day will also feature hands-on preparedness demonstrations\, expert speakers\, resources\, and emergency supplies at partner booths. We’ve partnered with many groups throughout the county that will be on hand to get you better prepared for any kind of disaster.\n\nThe event takes place outdoors in the Museum’s parking lot and is free to all attendees. Museum will be open\, regular admission applies. General admission is $10 (adult)\, $8 (military or senior)\, $7 (student)\, and $5 (child ages 6 to 12). Children five and under and museum members are free. Parking is free. The museum is accessible to persons with disabilities.
URL:https://inlandempiremagazine.com/event/shake-or-treat-earthquake-and-emergency-preparedness-fair/
LOCATION:San Bernardino County Museum\, 2024 Orange Tree Lane\, San Bernardino
CATEGORIES:Fairs
ATTACH;FMTTYPE=image/jpeg:https://inlandempiremagazine.com/wp-content/uploads/2024/09/2024-Great-ShakeOut-Event-Cover-1-scaled-1.jpg
END:VEVENT
BEGIN:VEVENT
DTSTART;TZID=UTC:20250308T090000
DTEND;TZID=UTC:20250308T140000
DTSTAMP:20260423T211606
CREATED:20250228T145431Z
LAST-MODIFIED:20250228T145431Z
UID:20280-1741424400-1741442400@inlandempiremagazine.com
SUMMARY:Railroadiana Spring Swap Meet
DESCRIPTION:Shop for and learn about railroadiana and railroad antiques at Southern California’s largest outdoor railroadiana swap meet. Today guests can also enjoy an exclusive opportunity to experience our Pacific Electric collection with trolleys running every 30 minutes. \n\n\n\n\nVendors will be selling railroad collectibles\, art\, books\, models and toy trains. Railroad historians and preservationists will be on hand to tell the story of Southern California’s railway history. Fun and learning for the whole family! \nSCRM hosts a variety of independent vendors for this event and cannot guarantee that all vendors will remain on-site until 2pm to showcase and sell their collectibles and wares\, so early arrival is suggested. \n\n\n\n\n\n\n\n\n\n\n\n\nDates & Departures\nMarch 8\, 2025\nThe event runs from 9 am to 2 pm \nPacific Electric Departure Schedule \n\nMainline Blimp Train (PE 418 and PE 498) departing every hour\, on the hour\, between 11am and 4pm\nMainline Electric PE 717 departing every hour\, on the half hour\, between 11:30am and 4:30pm\nLoopline PE 332 (Birney) departing on demand between 11am-4pm\n\n\n\n\n\n\n\n\n\n\n\nDetails \nGeneral Admission – Gates Open at 9am \n\nPre-Sale Admission Online: Adult $8\, Age 5-11 $7\nDay of General Admission: Adult $10\, Age 5-11 $9\nUpgrade to unlimited trolley rides: $4 online\, $5 day-of\n\nVendor Admission – Gates Open at 7am \n\nVendor Admission Pre-Sale Online $21.20\nVendor Admission Day Of $25\n\nInterested in getting more information on vending? Please fill out our Vendor Registration Form.
URL:https://inlandempiremagazine.com/event/railroadiana-spring-swap-meet/
LOCATION:Southern California Railway Museum\, 2201 S. “A” Street\,\, Perris\, CA
CATEGORIES:Fairs
ATTACH;FMTTYPE=image/png:https://inlandempiremagazine.com/wp-content/uploads/2025/02/Railroadiana-Header-Evergreen-1200-×-800-px.png
END:VEVENT
BEGIN:VEVENT
DTSTART;TZID=UTC:20250412T100000
DTEND;TZID=UTC:20250413T160000
DTSTAMP:20260423T211606
CREATED:20250328T194111Z
LAST-MODIFIED:20250328T194111Z
UID:20349-1744452000-1744560000@inlandempiremagazine.com
SUMMARY:Imaginology
DESCRIPTION:OC Fair’s Imaginology\nEach April\, OC Fair & Event Center transforms into Imaginology\, a free family event produced by OC Fair staff that focuses on STEAM education and hands-on learning. \nChildren\, teens\, families and school groups dig into science\, technology\, engineering\, arts and math. Imaginology provides unique experiences for attendees of all ages – from preschool to high school\, along with their parents and grandparents – to build\, create\, play\, observe and interact through activities that help kids of all ages see the possibilities of a future in STEAM fields. \nImaginology features makeshops\, demonstrations\, competitions\, hands-on activities and entertainment\, as well as food and fun. Youth competitions give students the chance to be recognized for their unique talents and accomplishments. \nWhen: Saturday & Sunday\, April 12-13\, 10 a.m.-4 p.m.\nWhere: OC Fair & Event Center\nHow much: Admission is free. Parking is $12.\nSchedule of events: 2025 Imaginology will feature live entertainment and tons of hands-on activities for kids of all ages.\nMore info: Visit ocfair.com/steam
URL:https://inlandempiremagazine.com/event/imaginology/
LOCATION:OC Fair & Event Center\, 88 Fair Dr.\,\, Costa Mesa\, CA
CATEGORIES:Fairs
ATTACH;FMTTYPE=image/jpeg:https://inlandempiremagazine.com/wp-content/uploads/2025/03/GX11195-IO-Events-Calendar-Graphic.jpg
END:VEVENT
BEGIN:VEVENT
DTSTART;TZID=UTC:20250416T000000
DTEND;TZID=UTC:20250420T000000
DTSTAMP:20260423T211606
CREATED:20250328T194449Z
LAST-MODIFIED:20250328T194449Z
UID:20352-1744761600-1745107200@inlandempiremagazine.com
SUMMARY:108th National Orange Show Fair
DESCRIPTION:BUY TICKETS & PRICES\n\n \n\nSAVE MONEY & SKIP THE LINE WHEN YOU BUY ONLINE \n\n\n\n\n\n\n\n\nDATE\n\n\n\n\n\n\nTICKET BOOTH\n\n\n\n\n\n\nONLINE*\n\n\n\n\n\n\n\n\nWednesday\, April 16th\n\n\n\n\n\n\nFREE\n\n\n\n\n\n\nN/A\n\n\n\n\n\n\n\n\nThursday\, April 17th\n\n\n\n\n\n\n$5\n\n\n\n\n\n\n$2\n\n\n\n\n\n\n\n\nFriday\, April 18th\n\n\n\n\n\n\n$15\n\n\n\n\n\n\n$11\n\n\n\n\n\n\n\n\nSaturday\, April 19th\n\n\n\n\n\n\n$15\n\n\n\n\n\n\n$11\n\n\n\n\n\n\n\n\nSunday\, April 20th\n\n\n\n\n\n\n$15\n\n\n\n\n\n\n$11\n\n\n\n\n\n\n\n\n\n\n\n\nKIDS 5 & YOUNGER FREE\n*There are NO FEES to buy online. Online ticket sales close at 9pm each night.\nBox office will remain open until 1 hour until closing. No refunds due to inclement weather. All online and box office ticket sales are final. \nALL LIVE MUSICAL ENTERTAINMENT ON THE MAIN STAGE IS INCLUDED WITH FAIR ADMISSION.\nFair admission tickets are NOT needed on the free admission day which is Wednesday\, April 16th. \n\nBUY TICKETS ONLINE
URL:https://inlandempiremagazine.com/event/108th-national-orange-show-fair/
LOCATION:National Orange Show\, 690 S. Arrowhead Ave.\, San Bernardino\, CA
CATEGORIES:Fairs
ATTACH;FMTTYPE=image/png:https://inlandempiremagazine.com/wp-content/uploads/2025/03/homepics-C.png
END:VEVENT
BEGIN:VEVENT
DTSTART;TZID=UTC:20250502T000000
DTEND;TZID=UTC:20250526T000000
DTSTAMP:20260423T211606
CREATED:20250328T195458Z
LAST-MODIFIED:20250328T195458Z
UID:20362-1746144000-1748217600@inlandempiremagazine.com
SUMMARY:LA County Fair
DESCRIPTION:The LA County Fair puts the spotlight on all things creative in 2025 with its theme Art Unleashed. \nThe Fair has been a celebration of art for more than a century: home arts\, culinary arts\, visual arts\, performing arts\, fine arts. The art of having fun. The art of making memories. Celebrate artistry and mastery in all their diverse forms with the Fair’s immersive experience that promises to captivate all guests.
URL:https://inlandempiremagazine.com/event/la-county-fair/
LOCATION:Pomona Fairplex\, 1101 Mckinley\, Pomona\, CA
CATEGORIES:Fairs
ATTACH;FMTTYPE=image/webp:https://inlandempiremagazine.com/wp-content/uploads/2025/03/2025_LACountyfair_logo.webp
END:VEVENT
BEGIN:VEVENT
DTSTART;TZID=UTC:20250912T190000
DTEND;TZID=UTC:20250912T190000
DTSTAMP:20260423T211606
CREATED:20250825T153932Z
LAST-MODIFIED:20250825T153942Z
UID:20704-1757703600-1757703600@inlandempiremagazine.com
SUMMARY:Country Night
DESCRIPTION:GET TICKETS HERE!\n\n\n\nGet ready to kick up your heels and cut loose at the Yucaipa Performing Arts Center’s 3rd Country Night on September 12! Dust off those cowboy boots and gather your friends for a rootin’-tootin’ evening filled with live music and good ol’ line dancing. Featuring the foot-stompin’ sounds of Westward Sons and the fabulous Country Vixen\, it’s a hoedown you won’t want to miss! Join fellow country fans as we two-step and swing our way through a night of unforgettable tunes in the beautiful indoor theater. With every note\, you’ll feel the warmth of Southern hospitality and the thrill of the dance floor calling your name! Whether you’re a seasoned pro or just looking to have a little fun\, there’s plenty of room for everyone to join the action. So saddle up and grab your tickets today because prices go up the day of the show! Join us for YPAC Live: Country Night and let’s make some memories under the stars! Yeehaw! 🎶✨
URL:https://inlandempiremagazine.com/event/country-night/
LOCATION:Yucaipa Performing Arts Center\,\, 12062 California St.\,\, Yucaipa\, CA
CATEGORIES:Fairs,Shows
ATTACH;FMTTYPE=image/jpeg:https://inlandempiremagazine.com/wp-content/uploads/2025/08/Facebook-Event-Images-33-Medium.jpeg
END:VEVENT
BEGIN:VEVENT
DTSTART;TZID=UTC:20250920T110000
DTEND;TZID=UTC:20250920T160000
DTSTAMP:20260423T211606
CREATED:20250825T174918Z
LAST-MODIFIED:20250825T174932Z
UID:20722-1758366000-1758384000@inlandempiremagazine.com
SUMMARY:Beasts & Bones
DESCRIPTION:Uncover the creatures of the past to the present – from tooth to tail! San Bernardino County Museum invites you to its first ever Beasts and Bones event This new\, family-friendly celebration is an energy-filled day of live reptiles & raptors\, prehistoric fossils\, expert partners\, arts & crafts\, and food vendors. General admission is $10 (adult)\, $8 (military or senior)\, $7 (student)\, and $5 (child ages 6 to 12). Children five and under and Museum Association members are admitted free. Parking is free\, and the museum is accessible to persons with disabilities.
URL:https://inlandempiremagazine.com/event/beasts-bones/
LOCATION:San Bernardino County Museum\, 2024 Orange Tree Lane\, San Bernardino
CATEGORIES:Fairs
ATTACH;FMTTYPE=image/jpeg:https://inlandempiremagazine.com/wp-content/uploads/2025/08/2025-SBCM-Beasts-and-Bones-Event-Cover-Generic-scaled-1.jpg
END:VEVENT
BEGIN:VEVENT
DTSTART;TZID=UTC:20251025T000000
DTEND;TZID=UTC:20251026T000000
DTSTAMP:20260423T211606
CREATED:20250924T161002Z
LAST-MODIFIED:20250924T161013Z
UID:20781-1761350400-1761436800@inlandempiremagazine.com
SUMMARY:Aquashella
DESCRIPTION:OCTOBER 25TH & 26TH\, 2025  | POMONA FAIRPLEX\nSaturday 10am – 6pm | Sunday 10am – 5pm \n\n\n\n\nTHE LARGEST AQUARIUM MARKETPLACE IN AMERICA \nFEATURING THE BEST OF FRESHWATER\, SALTWATER\, REPTILES AND AQUATIC ART!
URL:https://inlandempiremagazine.com/event/aquashella/
LOCATION:Pomona Fairplex\, 1101 Mckinley\, Pomona\, CA
CATEGORIES:Fairs
ATTACH;FMTTYPE=image/png:https://inlandempiremagazine.com/wp-content/uploads/2025/09/lashowlogo.png
END:VEVENT
END:VCALENDAR