BEGIN:VCALENDAR
VERSION:2.0
PRODID:-//Inland Empire Magazine - ECPv6.15.20//NONSGML v1.0//EN
CALSCALE:GREGORIAN
METHOD:PUBLISH
X-ORIGINAL-URL:https://inlandempiremagazine.com
X-WR-CALDESC:Events for Inland Empire Magazine
REFRESH-INTERVAL;VALUE=DURATION:PT1H
X-Robots-Tag:noindex
X-PUBLISHED-TTL:PT1H
BEGIN:VTIMEZONE
TZID:UTC
BEGIN:STANDARD
TZOFFSETFROM:+0000
TZOFFSETTO:+0000
TZNAME:UTC
DTSTART:20220101T000000
END:STANDARD
END:VTIMEZONE
BEGIN:VEVENT
DTSTART;TZID=UTC:20240719T110000
DTEND;TZID=UTC:20240818T230000
DTSTAMP:20260421T114532
CREATED:20240624T180356Z
LAST-MODIFIED:20240624T180356Z
UID:17900-1721386800-1724022000@inlandempiremagazine.com
SUMMARY:OC Fair
DESCRIPTION:The 2024 OC Fair is set for July 19 – Aug. 18\nWe are thrilled to welcome everyone back for “Always a Good Time”. Advance ticket purchase is required as we are limiting the number of admission tickets available for each day. Choose your days and plan your summer! \nTickets on sale now!\nNo service fees on OC Fair admission tickets! \nBuy Tickets
URL:https://inlandempiremagazine.com/event/oc-fair/
LOCATION:OC Fair & Event Center\, 88 Fair Dr.\,\, Costa Mesa\, CA
CATEGORIES:Fairs
ATTACH;FMTTYPE=image/png:https://inlandempiremagazine.com/wp-content/uploads/2024/06/24-girl-baby-pigs.png
END:VEVENT
BEGIN:VEVENT
DTSTART;TZID=UTC:20240629T000000
DTEND;TZID=UTC:20240630T000000
DTSTAMP:20260421T114532
CREATED:20240528T202924Z
LAST-MODIFIED:20240528T202924Z
UID:17830-1719619200-1719705600@inlandempiremagazine.com
SUMMARY:L.A. Pet Fair
DESCRIPTION:At the La Pet Fair\, we’re dedicated to working with reputable breeders and other vendors to bring you access to a wide variety of exotic pets. Our shows not only give you access to your favorite animals but also provide a wide variety of educational opportunities\, and a chance to check out the latest supplies. \nAt our shows it’s easy to finally find the perfect pet to bring home and have the chance to speak with an experienced vendors who are happy to offer advice in regards to your new pet. We’re happy to foster a welcoming\, informational\, and comfortable show where you and your family can have a blast exploring the wonderful world of Pets! Its like going to the zoo but your can take your new pet home with you! \nBird Super Show \nAre you ready to spread your wings and fly high with the Bird Super Show? If you are an avid bird lover or looking to bring a new feathered friend home\, then this live expo is just for you! At the Bird Super Show\, we showcase pet birds of all kinds\, from the most beautiful and vibrant parrots to the tiniest and cutest finches. Our super show gives you access to thousands of bird vendors\, top-notch aviary supplies\, and everything you need to create a comfortable and healthy home habitat for your bird to be happy in! This is not just any ordinary pet expo; we make it possible for our visitors to browse almost any bird you can think of! \nAquarium Super Show \nAre you a fish lover? Do you enjoy spending hours mesmerized by the dreamy movements of colorful aquatic creatures in their habitat? If your answer is yes\, then there is no better event for you than the Aquarium Super Show! This annual expo brings together fish enthusiasts from all over the world to celebrate the beauty and diversity of aquatic life. Whether you’re a newcomer to the aquarium hobby or a seasoned pro\, this event is the perfect opportunity to learn new things\, shop for the latest gear\, and connect with like-minded people. So\, hop into your scuba gear and let’s dive into the fun! \nSucculent Super Show \nAre you a lover of everything green and flowery? Do you get excited at the sight of blooming flowers? Then buckle up\, because we have a treat for you! The Succulent Super Show is here to offer you an experience of a lifetime. This live expo is a paradise for all flower lovers\, with access to thousands of flower vendors and all the supplies you need to create a comfortable and healthy home habitat. Get ready to indulge in the most amazing flower display in the world! The Succulent Super Show is an event that captures beauty in all its glory. Thousands of vendors will be present at the expo\, showcasing their finest and rarest succulents. You will be spoilt for choice at this event\, as there are all kinds of flowers on display\, from easy-to-care for flowers to exotic ones that you won’t find anywhere else! Take this opportunity to marvel at the beauty of these exotic plants and add them to your collection! \nReptile Super Show \nAt the Reptile Super Show\, the BEST reptile expo in the US\, we’re all about love and passion for reptiles. With access to thousands of reptiles and all of the supplies you need to create a comfortable and healthy home habitat\, we make it possible for our visitors to browse almost any reptile-related you can think of! With more than 100\,000 sq.ft. of space dedicated to reptiles\, amphibians\, turtles\, supplies\, educational workshops\, lighting\, cages and more\, you won’t want to miss out when the Reptile Super Show is in town. \nPurchase your Tickets \nBuy Tickets Here! \n\nAdult Weekend Pass: $20\nKids Weekend Pass (12 & Under): $16\nKids 2 years & under enter for Free!\n\nVisit LAPetFair.com for more information.
URL:https://inlandempiremagazine.com/event/l-a-pet-fair/
LOCATION:Pomona Fairplex\, 1101 Mckinley\, Pomona\, CA
CATEGORIES:Fairs
ATTACH;FMTTYPE=image/jpeg:https://inlandempiremagazine.com/wp-content/uploads/2024/05/LA-Pet-Fair-image.jpg
END:VEVENT
BEGIN:VEVENT
DTSTART;TZID=UTC:20240503T000000
DTEND;TZID=UTC:20240527T000000
DTSTAMP:20260421T114532
CREATED:20240424T201341Z
LAST-MODIFIED:20240424T201341Z
UID:17728-1714694400-1716768000@inlandempiremagazine.com
SUMMARY:L.A. County Fair
DESCRIPTION:The 2024 LA County Fair celebrates the medley of communities that comprise Los Angeles County with its theme Stars\, Stripes & Fun. \nLA County is one of the most diverse counties in the nation\, brimming with a mix of cultures and communities\, and the LA County Fair celebrates them all! Through song and dance\, awe-inspiring exhibits and the enticing aroma of everything from corn dogs to turkey legs\, tacos to red beans and rice\, plantains to funnel cake\, the Fair honors LA County with Stars\, Stripes & Fun. \nThe 16-day event opens May 3. Don’t miss new attractions\, the thrills of the carnival\, musical entertainment in every corner of the fairgrounds and\, of course\, lots and lots of food. \nBut the main component\, as always\, is fun!
URL:https://inlandempiremagazine.com/event/l-a-county-fair/
LOCATION:Pomona Fairplex\, 1101 Mckinley\, Pomona\, CA
CATEGORIES:Fairs
ATTACH;FMTTYPE=image/webp:https://inlandempiremagazine.com/wp-content/uploads/2024/04/LA_County_Fair_2024.webp
END:VEVENT
BEGIN:VEVENT
DTSTART;TZID=UTC:20240417T000000
DTEND;TZID=UTC:20240421T000000
DTSTAMP:20260421T114532
CREATED:20240325T194146Z
LAST-MODIFIED:20240325T194146Z
UID:17669-1713312000-1713657600@inlandempiremagazine.com
SUMMARY:National Orange Show Fair
DESCRIPTION:The 107th National Orange Show Fair Happens April 17th through April 21st!\n\n\n\n\nCHECK BACK SOON FOR ALL THE FUN FAIR ACTIVITIES AND ENTERTAINMENT!\n\n\n\n\nBECOME A VENDOR\nWant to become a vendor or concessionaire at the National Orange Show Fair and reach over 40\,000 visitors?\nIf you have any questions\, please send them to: info@nosevents.com. \n\n\n\n\n\nFOOD VENDOR HANDBOOKFOOD VENDOR APPLICATION\n\n\n\n\n\n\n\n\n\n\n\n\n\nCOMMERCIAL VENDOR HANDBOOKCOMMERCIAL VENDOR APPLICATION\n\n\n\n\n\n\n\n\n\n\n\n\n\n\n\n\nBECOME A SPONSOR\nWant to become a sponsor of the National Orange Show Fair? We have various sponsorship opportunities\, or we can customize your own.\nPlease contact Leslie Bischoff at 909-888-6788 or lbischoff@nosevents.com \n\n\nFAIR SPONSORSHIP PACKAGES
URL:https://inlandempiremagazine.com/event/national-orange-show-fair/
LOCATION:NOS Event Center\, 690 S. Arrowhead Ave.\,\, San Bernardino\, CA
CATEGORIES:Fairs
ATTACH;FMTTYPE=image/png:https://inlandempiremagazine.com/wp-content/uploads/2024/03/FairLogo-2024-06.png
END:VEVENT
BEGIN:VEVENT
DTSTART;TZID=UTC:20240216T100000
DTEND;TZID=UTC:20240225T220000
DTSTAMP:20260421T114532
CREATED:20240122T213434Z
LAST-MODIFIED:20240221T021253Z
UID:17487-1708077600-1708898400@inlandempiremagazine.com
SUMMARY:Riverside County Fair and National Date Festival
DESCRIPTION:The Fair & Date Fest returns February 16-25\, 2024\n\nCelebrate the very best of our community at the 76th annual Riverside County Fair & National Date Festival presented by Fantasy Springs Resort Casino!\n\n\n\n\n\n\n\n\n\n\n\n\n\n\n\n\nHOURS OF OPERATION\nFriday\, February 16: 3:00 – 10:00 pm\nSaturday\, February 17: 10:00 am – 10:00 pm\nSunday\, February 18: 10:00 am – 10:00 pm\nMonday\, February 19: 10:00 am – 10:00 pm\nTuesday\, February 20: 3:00 – 10:00 pm\nWednesday\, February 21: 3:00 – 10:00 pm\nThursday\, February 22: 3:00 – 10:00 pm\nFriday\, February 23: 3:00 – 10:00 pm\nSaturday\, February 24: 10:00 am – 10:00 pm\nSunday\, February 25: 10:00 am – 10:00 pm
URL:https://inlandempiremagazine.com/event/riverside-county-fair-and-national-date-festival/
LOCATION:Riverside County Fairgrounds\, 46350 Arabia St.\, Indio\, CA
CATEGORIES:Fairs
ATTACH;FMTTYPE=image/png:https://inlandempiremagazine.com/wp-content/uploads/2024/01/RCFNDF_Fantasy_23_dates1.png
END:VEVENT
BEGIN:VEVENT
DTSTART;TZID=UTC:20230714T110000
DTEND;TZID=UTC:20230813T230000
DTSTAMP:20260421T114532
CREATED:20230630T055046Z
LAST-MODIFIED:20230630T055046Z
UID:7967-1689332400-1691967600@inlandempiremagazine.com
SUMMARY:Orange County Fair
DESCRIPTION:Themed “Happy Together\,” the 2023 O.C. Fair will run Wednesdays through Sundays from July 14 through Aug. 13 and feature a special focus on community inclusion\, the Orange County Fair & Event Center announced earlier this month.
URL:https://inlandempiremagazine.com/event/orange-county-fair/
LOCATION:OC Fair & Event Center\, 88 Fair Dr.\,\, Costa Mesa\, CA
CATEGORIES:Fairs
ATTACH;FMTTYPE=image/jpeg:https://inlandempiremagazine.com/wp-content/uploads/2023/06/1200px-OC_Fair_2008-2.jpg
END:VEVENT
BEGIN:VEVENT
DTSTART;TZID=UTC:20230624T190000
DTEND;TZID=UTC:20230624T220000
DTSTAMP:20260421T114532
CREATED:20230524T034015Z
LAST-MODIFIED:20230524T194217Z
UID:6410-1687633200-1687644000@inlandempiremagazine.com
SUMMARY:Fairplex Presents Cheers at The Farm
DESCRIPTION:Fairplex presents Cheers at The Farm at Fairplex\, a celebration of the award-winning wine\, spirits\, and extra virgin olive oils from the Los Angeles International Competitions. Cheers brings together the best producers and artisans to pour for you. \nCheers proceeds support the educational programming of The Learning Centers at Fairplex (TLC)\, a 501(c)(3) non-profit on the Fairplex campus.
URL:https://inlandempiremagazine.com/event/fairplex-presents-cheers-at-the-farm/
LOCATION:The Farm at Pomona Fairplex\, 2118 N White Ave\,\, Pomona\, CA\, 91768
CATEGORIES:Fairs
ATTACH;FMTTYPE=image/jpeg:https://inlandempiremagazine.com/wp-content/uploads/2023/05/328b3b243161757bffea01641f5dbd97778563ebd00051c4ef2c58694e82826f-rimg-w960-h540-gmir.jpeg
END:VEVENT
BEGIN:VEVENT
DTSTART;TZID=UTC:20230616T070000
DTEND;TZID=UTC:20230617T170000
DTSTAMP:20260421T114532
CREATED:20230524T183904Z
LAST-MODIFIED:20230524T194244Z
UID:6426-1686898800-1687021200@inlandempiremagazine.com
SUMMARY:L.A. Roadster Show & Swap 2023
DESCRIPTION:The Los Angeles Roadster Club was formed in 1957 and is still going strong. The Club will produce it’s world renowned show for the 57th time in 2023 and 41st time it has been held at the Fairplex in Pomona. Thank you to all who attended and participated in 2022\, helping the Club in their return to produce a successful show. We are looking forward to 2023 and we’re currently at work to provide show improvements. \nSHOW DATES & HOURS \nThe Show continues at the Fairplex in Pomona. We are changing the show \nDays and Hours as follows: \nSHOW START DATE IS NOW FRIDAY\, JUNE 16TH \nHours for Friday are 7:00 a.m. to 5:00 p.m. and SATURDAY\, JUNE 17TH Hours for Saturday are 7:00 a.m. to 5:00 p.m
URL:https://inlandempiremagazine.com/event/l-a-roadster-show-swap-2023/
LOCATION:Pomona Fairplex\, 1101 Mckinley\, Pomona\, CA
CATEGORIES:Fairs
ATTACH;FMTTYPE=image/jpeg:https://inlandempiremagazine.com/wp-content/uploads/2023/05/341000634_627415839280719_6786425847055499311_n.jpeg
END:VEVENT
BEGIN:VEVENT
DTSTART;TZID=UTC:20230607T080000
DTEND;TZID=UTC:20230704T170000
DTSTAMP:20260421T114532
CREATED:20230524T031649Z
LAST-MODIFIED:20230524T194356Z
UID:6389-1686124800-1688490000@inlandempiremagazine.com
SUMMARY:San Diego County Fair
DESCRIPTION:ADVENTURE AWAITS \nGet Out There! \nAdventure awaits at the 2023 San Diego County Fair––“Get Out There!” to explore the great outdoors and get s’more of what life has to offer Wednesday\, June 7 through Tuesday\, July 4 at the Del Mar Fairgrounds. Scout out Best-of-Show winners in the Fair’s competitive exhibitions. Reach new heights as you spin upside-down in the FunZone. Hike around San Diego Grown to learn all about local agriculture from food to fiber to flowers. Be prepared for an unsurpassed line-up of entertainment on the fair’s featured stages. Summer camp has never been so much fun!
URL:https://inlandempiremagazine.com/event/san-diego-county-fair/
LOCATION:Del Mar Fair Grounds\, 2260 Jimmy Durante Blvd.\, Del Mar\,\, CA\, 92014
CATEGORIES:Fairs
ATTACH;FMTTYPE=image/jpeg:https://inlandempiremagazine.com/wp-content/uploads/2023/05/Fair_Sunset_1080x1080.jpeg
END:VEVENT
END:VCALENDAR