BEGIN:VCALENDAR
VERSION:2.0
PRODID:-//Inland Empire Magazine - ECPv6.15.20//NONSGML v1.0//EN
CALSCALE:GREGORIAN
METHOD:PUBLISH
X-WR-CALNAME:Inland Empire Magazine
X-ORIGINAL-URL:https://inlandempiremagazine.com
X-WR-CALDESC:Events for Inland Empire Magazine
REFRESH-INTERVAL;VALUE=DURATION:PT1H
X-Robots-Tag:noindex
X-PUBLISHED-TTL:PT1H
BEGIN:VTIMEZONE
TZID:UTC
BEGIN:STANDARD
TZOFFSETFROM:+0000
TZOFFSETTO:+0000
TZNAME:UTC
DTSTART:20240101T000000
END:STANDARD
END:VTIMEZONE
BEGIN:VEVENT
DTSTART;TZID=UTC:20250416T000000
DTEND;TZID=UTC:20250420T000000
DTSTAMP:20260422T055524
CREATED:20250328T194449Z
LAST-MODIFIED:20250328T194449Z
UID:20352-1744761600-1745107200@inlandempiremagazine.com
SUMMARY:108th National Orange Show Fair
DESCRIPTION:BUY TICKETS & PRICES\n\n \n\nSAVE MONEY & SKIP THE LINE WHEN YOU BUY ONLINE \n\n\n\n\n\n\n\n\nDATE\n\n\n\n\n\n\nTICKET BOOTH\n\n\n\n\n\n\nONLINE*\n\n\n\n\n\n\n\n\nWednesday\, April 16th\n\n\n\n\n\n\nFREE\n\n\n\n\n\n\nN/A\n\n\n\n\n\n\n\n\nThursday\, April 17th\n\n\n\n\n\n\n$5\n\n\n\n\n\n\n$2\n\n\n\n\n\n\n\n\nFriday\, April 18th\n\n\n\n\n\n\n$15\n\n\n\n\n\n\n$11\n\n\n\n\n\n\n\n\nSaturday\, April 19th\n\n\n\n\n\n\n$15\n\n\n\n\n\n\n$11\n\n\n\n\n\n\n\n\nSunday\, April 20th\n\n\n\n\n\n\n$15\n\n\n\n\n\n\n$11\n\n\n\n\n\n\n\n\n\n\n\n\nKIDS 5 & YOUNGER FREE\n*There are NO FEES to buy online. Online ticket sales close at 9pm each night.\nBox office will remain open until 1 hour until closing. No refunds due to inclement weather. All online and box office ticket sales are final. \nALL LIVE MUSICAL ENTERTAINMENT ON THE MAIN STAGE IS INCLUDED WITH FAIR ADMISSION.\nFair admission tickets are NOT needed on the free admission day which is Wednesday\, April 16th. \n\nBUY TICKETS ONLINE
URL:https://inlandempiremagazine.com/event/108th-national-orange-show-fair/
LOCATION:National Orange Show\, 690 S. Arrowhead Ave.\, San Bernardino\, CA
CATEGORIES:Fairs
ATTACH;FMTTYPE=image/png:https://inlandempiremagazine.com/wp-content/uploads/2025/03/homepics-C.png
END:VEVENT
END:VCALENDAR