BEGIN:VCALENDAR
VERSION:2.0
PRODID:-//Inland Empire Magazine - ECPv6.15.20//NONSGML v1.0//EN
CALSCALE:GREGORIAN
METHOD:PUBLISH
X-ORIGINAL-URL:https://inlandempiremagazine.com
X-WR-CALDESC:Events for Inland Empire Magazine
REFRESH-INTERVAL;VALUE=DURATION:PT1H
X-Robots-Tag:noindex
X-PUBLISHED-TTL:PT1H
BEGIN:VTIMEZONE
TZID:UTC
BEGIN:STANDARD
TZOFFSETFROM:+0000
TZOFFSETTO:+0000
TZNAME:UTC
DTSTART:20220101T000000
END:STANDARD
END:VTIMEZONE
BEGIN:VEVENT
DTSTART;TZID=UTC:20230714T110000
DTEND;TZID=UTC:20230813T230000
DTSTAMP:20260423T162742
CREATED:20230630T055046Z
LAST-MODIFIED:20230630T055046Z
UID:7967-1689332400-1691967600@inlandempiremagazine.com
SUMMARY:Orange County Fair
DESCRIPTION:Themed “Happy Together\,” the 2023 O.C. Fair will run Wednesdays through Sundays from July 14 through Aug. 13 and feature a special focus on community inclusion\, the Orange County Fair & Event Center announced earlier this month.
URL:https://inlandempiremagazine.com/event/orange-county-fair/
LOCATION:OC Fair & Event Center\, 88 Fair Dr.\,\, Costa Mesa\, CA
CATEGORIES:Fairs
ATTACH;FMTTYPE=image/jpeg:https://inlandempiremagazine.com/wp-content/uploads/2023/06/1200px-OC_Fair_2008-2.jpg
END:VEVENT
END:VCALENDAR