BEGIN:VCALENDAR
VERSION:2.0
PRODID:-//Inland Empire Magazine - ECPv6.15.20//NONSGML v1.0//EN
CALSCALE:GREGORIAN
METHOD:PUBLISH
X-ORIGINAL-URL:https://inlandempiremagazine.com
X-WR-CALDESC:Events for Inland Empire Magazine
REFRESH-INTERVAL;VALUE=DURATION:PT1H
X-Robots-Tag:noindex
X-PUBLISHED-TTL:PT1H
BEGIN:VTIMEZONE
TZID:UTC
BEGIN:STANDARD
TZOFFSETFROM:+0000
TZOFFSETTO:+0000
TZNAME:UTC
DTSTART:20220101T000000
END:STANDARD
END:VTIMEZONE
BEGIN:VEVENT
DTSTART;TZID=UTC:20230607T080000
DTEND;TZID=UTC:20230704T170000
DTSTAMP:20260423T180342
CREATED:20230524T031649Z
LAST-MODIFIED:20230524T194356Z
UID:6389-1686124800-1688490000@inlandempiremagazine.com
SUMMARY:San Diego County Fair
DESCRIPTION:ADVENTURE AWAITS \nGet Out There! \nAdventure awaits at the 2023 San Diego County Fair––“Get Out There!” to explore the great outdoors and get s’more of what life has to offer Wednesday\, June 7 through Tuesday\, July 4 at the Del Mar Fairgrounds. Scout out Best-of-Show winners in the Fair’s competitive exhibitions. Reach new heights as you spin upside-down in the FunZone. Hike around San Diego Grown to learn all about local agriculture from food to fiber to flowers. Be prepared for an unsurpassed line-up of entertainment on the fair’s featured stages. Summer camp has never been so much fun!
URL:https://inlandempiremagazine.com/event/san-diego-county-fair/
LOCATION:Del Mar Fair Grounds\, 2260 Jimmy Durante Blvd.\, Del Mar\,\, CA\, 92014
CATEGORIES:Fairs
ATTACH;FMTTYPE=image/jpeg:https://inlandempiremagazine.com/wp-content/uploads/2023/05/Fair_Sunset_1080x1080.jpeg
END:VEVENT
BEGIN:VEVENT
DTSTART;TZID=UTC:20230616T070000
DTEND;TZID=UTC:20230617T170000
DTSTAMP:20260423T180342
CREATED:20230524T183904Z
LAST-MODIFIED:20230524T194244Z
UID:6426-1686898800-1687021200@inlandempiremagazine.com
SUMMARY:L.A. Roadster Show & Swap 2023
DESCRIPTION:The Los Angeles Roadster Club was formed in 1957 and is still going strong. The Club will produce it’s world renowned show for the 57th time in 2023 and 41st time it has been held at the Fairplex in Pomona. Thank you to all who attended and participated in 2022\, helping the Club in their return to produce a successful show. We are looking forward to 2023 and we’re currently at work to provide show improvements. \nSHOW DATES & HOURS \nThe Show continues at the Fairplex in Pomona. We are changing the show \nDays and Hours as follows: \nSHOW START DATE IS NOW FRIDAY\, JUNE 16TH \nHours for Friday are 7:00 a.m. to 5:00 p.m. and SATURDAY\, JUNE 17TH Hours for Saturday are 7:00 a.m. to 5:00 p.m
URL:https://inlandempiremagazine.com/event/l-a-roadster-show-swap-2023/
LOCATION:Pomona Fairplex\, 1101 Mckinley\, Pomona\, CA
CATEGORIES:Fairs
ATTACH;FMTTYPE=image/jpeg:https://inlandempiremagazine.com/wp-content/uploads/2023/05/341000634_627415839280719_6786425847055499311_n.jpeg
END:VEVENT
END:VCALENDAR