BEGIN:VCALENDAR
VERSION:2.0
PRODID:-//Inland Empire Magazine - ECPv6.15.20//NONSGML v1.0//EN
CALSCALE:GREGORIAN
METHOD:PUBLISH
X-ORIGINAL-URL:https://inlandempiremagazine.com
X-WR-CALDESC:Events for Inland Empire Magazine
REFRESH-INTERVAL;VALUE=DURATION:PT1H
X-Robots-Tag:noindex
X-PUBLISHED-TTL:PT1H
BEGIN:VTIMEZONE
TZID:UTC
BEGIN:STANDARD
TZOFFSETFROM:+0000
TZOFFSETTO:+0000
TZNAME:UTC
DTSTART:20250101T000000
END:STANDARD
END:VTIMEZONE
BEGIN:VEVENT
DTSTART;TZID=UTC:20260301T090000
DTEND;TZID=UTC:20260510T180000
DTSTAMP:20260425T005309
CREATED:20260224T212433Z
LAST-MODIFIED:20260224T212447Z
UID:21103-1772355600-1778436000@inlandempiremagazine.com
SUMMARY:The Flower Fields
DESCRIPTION:Step into a sea of color at the world’s largest ranunculus flower field in Carlsbad\, California\, where 80 million vibrant blooms stretch as far as the eye can see. \nEach spring\, this breathtaking Southern California attraction transforms the landscape into a living rainbow\, inviting guests to wander among brilliant ranunculus flowers\, stroll scenic walking paths\, and enjoy fun activities for the whole family. Whether you’re planning a spring day trip\, a family outing\, or seeking the perfect Instagram-worthy floral backdrop\, this is a world wonder that welcomes you back\, time and time again\, to be inspired\, joyful\, and in awe.
URL:https://inlandempiremagazine.com/event/the-flower-fields-2/
LOCATION:The Flower Fields\, 5704 Paseo del Norte\,\, Carlsbad\, CA
CATEGORIES:Museums
ATTACH;FMTTYPE=image/webp:https://inlandempiremagazine.com/wp-content/uploads/2026/02/header-logo-1.webp
END:VEVENT
BEGIN:VEVENT
DTSTART;TZID=UTC:20260320T100000
DTEND;TZID=UTC:20260322T190000
DTSTAMP:20260425T005309
CREATED:20260224T214018Z
LAST-MODIFIED:20260224T214026Z
UID:21119-1774000800-1774206000@inlandempiremagazine.com
SUMMARY:The California RV Super Show
DESCRIPTION:The California RV Super Show takes over the Pomona Fairplex\, March 20-22\, 2026. This is your chance to explore hundreds of new models from 5 giant dealers all in one place. But it’s not just about the RVs! Get expert advice at daily seminars\, meet Kevin and Patrice from “RV THERE YET? TV\,” and enjoy amazing entertainment. Be wowed by the All Star Stunt Dogs and meet Spider-Man! Don’t miss the biggest RV event of the season. \nLearn More
URL:https://inlandempiremagazine.com/event/the-california-rv-super-show/
LOCATION:Pomona Fairplex\, 1101 Mckinley\, Pomona\, CA
CATEGORIES:Shows
ATTACH;FMTTYPE=image/png:https://inlandempiremagazine.com/wp-content/uploads/2026/02/RV-SUPERSHOWS-Banner.png
END:VEVENT
BEGIN:VEVENT
DTSTART;TZID=UTC:20260320T200000
DTEND;TZID=UTC:20260320T200000
DTSTAMP:20260425T005309
CREATED:20260224T213710Z
LAST-MODIFIED:20260224T213721Z
UID:21116-1774036800-1774036800@inlandempiremagazine.com
SUMMARY:Stand-Up Spotlight: Comedy Show
DESCRIPTION:GET TICKETS HERE!\n\n\n\nJoin us for our MONTHLY Stand-Up Spotlight Comedy Night! These talented comedians promise to keep you laughing all night! This event sells fast\, so book your tickets NOW! \n\n\n\nWe’ve proudly established ourselves as THE go-to comedy night in the Inland Empire. With affordable ticket prices and special deals for pairs of tickets\, it’s never been easier to bring a friend and share the fun. During the show\, enjoy a selection of refreshing alcoholic and non-alcoholic drinks and concessions available for purchase to complement the performance. Our hand-picked lineup of comedians boasts impressive credentials\, having graced the stages of famous late-night talk shows and with credits and specials on Hulu\, Showtime\, and Netflix. You can count on them to deliver top-notch comedy that will have you coming back each month.\n\nGrab your tickets now! See you soon!\n\n\n\nLINEUP: \n\n\nDavid Studebaker\nDavid Studebaker is a stand-up comedian and writer whose TV credits include Jimmy Kimmel Live\, The Late Late Show with James Corden\, Adam Ruins Everything\, and TruTV. He has also appeared on Conan and Comedy Central and is a former head writer for Adam Ruins Everything. \nChris Cope\nChris Cope is a stand-up comedian and television writer with credits on The Tonight Show Starring Jimmy Fallon and The Late Late Show with James Corden. His comedy has also been featured on Comedy Central. \nKevin Flynn\nKevin Flynn is a stand-up comedian and television writer whose credits include The Late Late Show with James Corden and Comedy Central. He has also appeared on Conan and performs regularly at top comedy clubs across the country.
URL:https://inlandempiremagazine.com/event/stand-up-spotlight-comedy-show/
LOCATION:Yucaipa Performing Arts Center\,\, 12062 California St.\,\, Yucaipa\, CA
CATEGORIES:Shows
ATTACH;FMTTYPE=image/jpeg:https://inlandempiremagazine.com/wp-content/uploads/2026/02/HPPhoto_YPAC_Comedy_20251107_14-scaled-1.jpg
END:VEVENT
END:VCALENDAR