BEGIN:VCALENDAR
VERSION:2.0
PRODID:-//Inland Empire Magazine - ECPv6.15.20//NONSGML v1.0//EN
CALSCALE:GREGORIAN
METHOD:PUBLISH
X-ORIGINAL-URL:https://inlandempiremagazine.com
X-WR-CALDESC:Events for Inland Empire Magazine
REFRESH-INTERVAL;VALUE=DURATION:PT1H
X-Robots-Tag:noindex
X-PUBLISHED-TTL:PT1H
BEGIN:VTIMEZONE
TZID:UTC
BEGIN:STANDARD
TZOFFSETFROM:+0000
TZOFFSETTO:+0000
TZNAME:UTC
DTSTART:20250101T000000
END:STANDARD
END:VTIMEZONE
BEGIN:VEVENT
DTSTART;TZID=UTC:20260301T090000
DTEND;TZID=UTC:20260510T180000
DTSTAMP:20260425T005308
CREATED:20260224T212433Z
LAST-MODIFIED:20260224T212447Z
UID:21103-1772355600-1778436000@inlandempiremagazine.com
SUMMARY:The Flower Fields
DESCRIPTION:Step into a sea of color at the world’s largest ranunculus flower field in Carlsbad\, California\, where 80 million vibrant blooms stretch as far as the eye can see. \nEach spring\, this breathtaking Southern California attraction transforms the landscape into a living rainbow\, inviting guests to wander among brilliant ranunculus flowers\, stroll scenic walking paths\, and enjoy fun activities for the whole family. Whether you’re planning a spring day trip\, a family outing\, or seeking the perfect Instagram-worthy floral backdrop\, this is a world wonder that welcomes you back\, time and time again\, to be inspired\, joyful\, and in awe.
URL:https://inlandempiremagazine.com/event/the-flower-fields-2/
LOCATION:The Flower Fields\, 5704 Paseo del Norte\,\, Carlsbad\, CA
CATEGORIES:Museums
ATTACH;FMTTYPE=image/webp:https://inlandempiremagazine.com/wp-content/uploads/2026/02/header-logo-1.webp
END:VEVENT
BEGIN:VEVENT
DTSTART;TZID=UTC:20260307T000000
DTEND;TZID=UTC:20260315T000000
DTSTAMP:20260425T005308
CREATED:20260224T212759Z
LAST-MODIFIED:20260224T212809Z
UID:21107-1772841600-1773532800@inlandempiremagazine.com
SUMMARY:Mary Poppins the Musical
DESCRIPTION:Tickets\nSaturday\, March 7\, 2026\, 1:00 pm \nBuy Tickets \nSaturday\, March 7\, 2026\, 7:00 pm \nBuy Tickets \nSunday\, March 8\, 2026\, 1:00 pm \nBuy Tickets \nFriday\, March 13\, 2026\, 7:00 pm \nBuy Tickets \nSaturday\, March 14\, 2026\, 1:00 pm \nBuy Tickets \nSaturday\, March 14\, 2026\, 7:00 pm \nBuy Tickets \nSunday\, March 15\, 2026\, 1:00 pm \nBuy Tickets \nInland Pacific Ballet\, along with The Candlelight Pavilion\, present Mary Poppins the Musical – A magical journey of music\, dance\, and imagination that’s “Practically Perfect” in every way. \nPlease note: The performance on Friday\, March 13\, 2026 at 7:00 PM will feature Mary Poppins Jr. This special Academy production showcases the youth performers of Inland Pacific Ballet Academy. With a shorter run time and a streamlined selection of songs and dance numbers\, it offers a wonderful introduction to the magic of live theater for families and young audiences. For the full professional production of Mary Poppins\, please select from the other listed performance times.
URL:https://inlandempiremagazine.com/event/mary-poppins-the-musical/
LOCATION:Lewis Family Playhouse\, 12505 Cultural Center Drive\,\, Rancho Cuc
CATEGORIES:Shows
ATTACH;FMTTYPE=image/png:https://inlandempiremagazine.com/wp-content/uploads/2026/02/marypoppins-lfp-eventgraphic.png
END:VEVENT
END:VCALENDAR