BEGIN:VCALENDAR
VERSION:2.0
PRODID:-//Inland Empire Magazine - ECPv6.15.20//NONSGML v1.0//EN
CALSCALE:GREGORIAN
METHOD:PUBLISH
X-ORIGINAL-URL:https://inlandempiremagazine.com
X-WR-CALDESC:Events for Inland Empire Magazine
REFRESH-INTERVAL;VALUE=DURATION:PT1H
X-Robots-Tag:noindex
X-PUBLISHED-TTL:PT1H
BEGIN:VTIMEZONE
TZID:UTC
BEGIN:STANDARD
TZOFFSETFROM:+0000
TZOFFSETTO:+0000
TZNAME:UTC
DTSTART:20250101T000000
END:STANDARD
END:VTIMEZONE
BEGIN:VEVENT
DTSTART;TZID=UTC:20260227T140000
DTEND;TZID=UTC:20260301T190000
DTSTAMP:20260425T015901
CREATED:20260127T151628Z
LAST-MODIFIED:20260127T151643Z
UID:21058-1772200800-1772391600@inlandempiremagazine.com
SUMMARY:Legends of Illusion
DESCRIPTION:Legends of Illusion is coming to the Yucaipa Performing Arts Center! \nStep into a world where the impossible becomes reality!Brought to you by YPAC Live and Legendary Productions\, Legends of Illusion delivers an unforgettable evening of magic\, spectacle\, and showmanship. Featuring three incredible magicians\, each with their own jaw-dropping style\, this high-energy production blends mind-bending illusions with live singing\, music\, and dynamic dancing\, creating a truly theatrical experience. \nFrom grand stage illusions to moments that will leave you asking\, “How did they do that?”\, this is the kind of show people talk about long after the curtain falls. \nA magical\, mesmerizing\, must-see event\, you won’t want to miss Legends of Illusion! \n\n\n\n\n\nFRIDAY 7PM (02/27/26)\n\n\n\nGET TICKETS HERE!\n\n\n\n\nSATURDAY 2PM (02/28/26)\n\n\n\nGET TICKETS HERE!\n\n\n\n\nSATURDAY 7PM (02/28/26)\n\n\n\nGET TICKETS HERE!\n\n\n\n\nSUNDAY 2PM (03/01/26)\n\n\n\nGET TICKETS HERE!
URL:https://inlandempiremagazine.com/event/legends-of-illusion/
LOCATION:Yucaipa Performing Arts Center\,\, 12062 California St.\,\, Yucaipa\, CA
ATTACH;FMTTYPE=image/jpeg:https://inlandempiremagazine.com/wp-content/uploads/2026/01/4ee49ecd-2c47-499f-948f-29dcc3f86691_SOURCE-Medium.jpeg
END:VEVENT
END:VCALENDAR