BEGIN:VCALENDAR
VERSION:2.0
PRODID:-//Inland Empire Magazine - ECPv6.15.20//NONSGML v1.0//EN
CALSCALE:GREGORIAN
METHOD:PUBLISH
X-ORIGINAL-URL:https://inlandempiremagazine.com
X-WR-CALDESC:Events for Inland Empire Magazine
REFRESH-INTERVAL;VALUE=DURATION:PT1H
X-Robots-Tag:noindex
X-PUBLISHED-TTL:PT1H
BEGIN:VTIMEZONE
TZID:UTC
BEGIN:STANDARD
TZOFFSETFROM:+0000
TZOFFSETTO:+0000
TZNAME:UTC
DTSTART:20250101T000000
END:STANDARD
END:VTIMEZONE
BEGIN:VEVENT
DTSTART;TZID=UTC:20260206T140000
DTEND;TZID=UTC:20260215T190000
DTSTAMP:20260425T022532
CREATED:20260127T144003Z
LAST-MODIFIED:20260127T144012Z
UID:21028-1770386400-1771182000@inlandempiremagazine.com
SUMMARY:Seussical The Musical
DESCRIPTION:Seussical The Musical is coming to the Yucaipa Performing Arts Center! \nBrought to you by Legendary Productions and YPAC Live\, get ready to step into the colorful\, whimsical world of Dr. Seuss as Seussical The Musical bursts onto our stage with outrageous characters\, toe-tapping songs\, and heartwarming storytelling! Follow the kind-hearted Horton the Elephant as he protects the tiny Whos on their speck of dust\, while the Cat in the Hat stirs up Seuss-style chaos and mischief along the way. Packed with catchy numbers and dazzling costumes that look like they jumped straight off the pages of your favorite childhood books\, this musical is a joyful celebration of imagination\, courage\, and believing in yourself. With humor for the grown-ups\, magic for the kids\, and a message that reminds us that “a person’s a person\, no matter how small\,” Seussical is a feel-good theatrical adventure that will make you laugh\, cheer\, and leave the theatre grinning from ear to ear. Don’t miss the show that proves anything is possible once you start to think wonderful thinks! \nIf you’ve joined us before\, you know the magic Legendary Productions brings to Yucaipa… past hits like The Addams Family Musical\, Beauty and the Beast\, Freaky Friday\, Cinderella\, Joseph and the Amazing Technicolor Dreamcoat\, and SO many more! They have filled our theater with countless sold-out crowds\, thunderous applause\, and standing ovations. Known for their high-quality productions\, intricate sets\, and extraordinary talent\, Legendary Productions has built a reputation for bringing Broadway-level shows right here to our community. \nPair that with the YPAC’s state-of-the-art sound\, lighting\, and intimate but spacious theater\, and you have an unforgettable night of live entertainment. \nDon’t miss your chance to experience the joy\, heart\, and theatrical magic of Seussical The Musical!  \n\n\n\n\n\nFRIDAY 7PM (02/06/26)\n\n\n\nGET TICKETS HERE!\n\n\n\n\nSATURDAY 2PM (02/07/26)\n\n\n\nGET TICKETS HERE!\n\n\n\n\nSATURDAY 7PM (02/07/26)\n\n\n\nGET TICKETS HERE!\n\n\n\n\nSUNDAY 2PM (02/08/26)\n\n\n\nGET TICKETS HERE!\n\n\n\n\nFRIDAY 7PM (02/13/26)\n\n\n\nGET TICKETS HERE!\n\n\n\n\nSATURDAY 2PM (02/14/26)\n\n\n\nGET TICKETS HERE!\n\n\n\n\nSATURDAY 7PM (02/14/26)\n\n\n\nGET TICKETS HERE!\n\n\n\n\nSUNDAY 2PM (02/15/26)\n\n\n\nGET TICKETS HERE!
URL:https://inlandempiremagazine.com/event/seussical-the-musical/
LOCATION:Yucaipa Performing Arts Center\,\, 12062 California St.\,\, Yucaipa\, CA
CATEGORIES:Concerts
ATTACH;FMTTYPE=image/png:https://inlandempiremagazine.com/wp-content/uploads/2026/01/Facebook-Event-Images-51-scaled-1.png
END:VEVENT
BEGIN:VEVENT
DTSTART;TZID=UTC:20260213T170000
DTEND;TZID=UTC:20260213T210000
DTSTAMP:20260425T022532
CREATED:20260127T145457Z
LAST-MODIFIED:20260127T145509Z
UID:21041-1771002000-1771016400@inlandempiremagazine.com
SUMMARY:Valentine’s Trivia Night
DESCRIPTION:Love is part of our story—and sometimes it begins with laughter\, curiosity\, and a little friendly competition. Join San Bernardino County Museum for Trivia Night: Valentine’s Edition on Friday\, February 13\, from 5 to 9 PM\, a special after-hours evening designed for couples\, friends\, and anyone who loves a good challenge. Set inside the Fisk Gallery\, this cozy indoor event blends trivia\, connection\, and museum ambiance for a memorable night out. Trivia begins promptly at 6:30 PM\, so arrive early to explore the galleries and settle in. \nEnjoy 50% off regular museum admission. Parking is free\, and the museum is accessible to persons with disabilities. Whether you’re celebrating romance\, friendship\, or simply a shared love of learning\, spend Valentine’s night adding a playful chapter to our shared story.
URL:https://inlandempiremagazine.com/event/valentines-trivia-night/
LOCATION:San Bernardino County Museum\, 2024 Orange Tree Lane\, San Bernardino
CATEGORIES:Holiday Celebrations
ATTACH;FMTTYPE=image/jpeg:https://inlandempiremagazine.com/wp-content/uploads/2026/01/Trivia-Night-2026-banner.jpg
END:VEVENT
BEGIN:VEVENT
DTSTART;TZID=UTC:20260213T190000
DTEND;TZID=UTC:20260213T190000
DTSTAMP:20260425T022532
CREATED:20260127T145114Z
LAST-MODIFIED:20260127T145123Z
UID:21038-1771009200-1771009200@inlandempiremagazine.com
SUMMARY:Who We Are: A Community Showcase
DESCRIPTION:Buy Tickets\nSelect your seats here!\n\n\n\n\n\n\nJoin us in celebrating the young performing artists of our Rancho Cucamonga community in the Rancho Cucamonga Community & Arts Foundation’s third annual Community Performance Showcase! The vocal programs of Rancho Cucamonga\, Alta Loma\, Etiwanda and Los Osos High Schools come together to showcase what it means to be a vocal artist from Rancho Cucamonga. \nThe Rancho Cucamonga Community & Arts Foundation’s mission is “to raise funds to enrich our community by supporting\, expanding & advancing arts and cultural opportunities.” Within this mission\, and served by their annual Community Showcase and Community Arts Festival are the values of “sparking the imagination of children\, fostering community pride by supporting the arts\, providing the underserved with access to the arts\, and giving back to the community.”
URL:https://inlandempiremagazine.com/event/who-we-are-a-community-showcase/
LOCATION:Lewis Family Playhouse\, 12505 Cultural Center Drive\,\, Rancho Cuc
CATEGORIES:Shows
ATTACH;FMTTYPE=image/png:https://inlandempiremagazine.com/wp-content/uploads/2026/01/whoweare-event.png
END:VEVENT
END:VCALENDAR