BEGIN:VCALENDAR
VERSION:2.0
PRODID:-//Inland Empire Magazine - ECPv6.15.20//NONSGML v1.0//EN
CALSCALE:GREGORIAN
METHOD:PUBLISH
X-WR-CALNAME:Inland Empire Magazine
X-ORIGINAL-URL:https://inlandempiremagazine.com
X-WR-CALDESC:Events for Inland Empire Magazine
REFRESH-INTERVAL;VALUE=DURATION:PT1H
X-Robots-Tag:noindex
X-PUBLISHED-TTL:PT1H
BEGIN:VTIMEZONE
TZID:UTC
BEGIN:STANDARD
TZOFFSETFROM:+0000
TZOFFSETTO:+0000
TZNAME:UTC
DTSTART:20250101T000000
END:STANDARD
END:VTIMEZONE
BEGIN:VEVENT
DTSTART;TZID=UTC:20260206T140000
DTEND;TZID=UTC:20260215T190000
DTSTAMP:20260425T022356
CREATED:20260127T144003Z
LAST-MODIFIED:20260127T144012Z
UID:21028-1770386400-1771182000@inlandempiremagazine.com
SUMMARY:Seussical The Musical
DESCRIPTION:Seussical The Musical is coming to the Yucaipa Performing Arts Center! \nBrought to you by Legendary Productions and YPAC Live\, get ready to step into the colorful\, whimsical world of Dr. Seuss as Seussical The Musical bursts onto our stage with outrageous characters\, toe-tapping songs\, and heartwarming storytelling! Follow the kind-hearted Horton the Elephant as he protects the tiny Whos on their speck of dust\, while the Cat in the Hat stirs up Seuss-style chaos and mischief along the way. Packed with catchy numbers and dazzling costumes that look like they jumped straight off the pages of your favorite childhood books\, this musical is a joyful celebration of imagination\, courage\, and believing in yourself. With humor for the grown-ups\, magic for the kids\, and a message that reminds us that “a person’s a person\, no matter how small\,” Seussical is a feel-good theatrical adventure that will make you laugh\, cheer\, and leave the theatre grinning from ear to ear. Don’t miss the show that proves anything is possible once you start to think wonderful thinks! \nIf you’ve joined us before\, you know the magic Legendary Productions brings to Yucaipa… past hits like The Addams Family Musical\, Beauty and the Beast\, Freaky Friday\, Cinderella\, Joseph and the Amazing Technicolor Dreamcoat\, and SO many more! They have filled our theater with countless sold-out crowds\, thunderous applause\, and standing ovations. Known for their high-quality productions\, intricate sets\, and extraordinary talent\, Legendary Productions has built a reputation for bringing Broadway-level shows right here to our community. \nPair that with the YPAC’s state-of-the-art sound\, lighting\, and intimate but spacious theater\, and you have an unforgettable night of live entertainment. \nDon’t miss your chance to experience the joy\, heart\, and theatrical magic of Seussical The Musical!  \n\n\n\n\n\nFRIDAY 7PM (02/06/26)\n\n\n\nGET TICKETS HERE!\n\n\n\n\nSATURDAY 2PM (02/07/26)\n\n\n\nGET TICKETS HERE!\n\n\n\n\nSATURDAY 7PM (02/07/26)\n\n\n\nGET TICKETS HERE!\n\n\n\n\nSUNDAY 2PM (02/08/26)\n\n\n\nGET TICKETS HERE!\n\n\n\n\nFRIDAY 7PM (02/13/26)\n\n\n\nGET TICKETS HERE!\n\n\n\n\nSATURDAY 2PM (02/14/26)\n\n\n\nGET TICKETS HERE!\n\n\n\n\nSATURDAY 7PM (02/14/26)\n\n\n\nGET TICKETS HERE!\n\n\n\n\nSUNDAY 2PM (02/15/26)\n\n\n\nGET TICKETS HERE!
URL:https://inlandempiremagazine.com/event/seussical-the-musical/
LOCATION:Yucaipa Performing Arts Center\,\, 12062 California St.\,\, Yucaipa\, CA
CATEGORIES:Concerts
ATTACH;FMTTYPE=image/png:https://inlandempiremagazine.com/wp-content/uploads/2026/01/Facebook-Event-Images-51-scaled-1.png
END:VEVENT
BEGIN:VEVENT
DTSTART;TZID=UTC:20260207T100000
DTEND;TZID=UTC:20260208T170000
DTSTAMP:20260425T022356
CREATED:20260127T144424Z
LAST-MODIFIED:20260127T144436Z
UID:21031-1770458400-1770570000@inlandempiremagazine.com
SUMMARY:RailGiants Train Museum
DESCRIPTION:RailGiants Train Museum at the Los Angeles County Fairgrounds in Pomona\, California is a historical journey back to the glory days of the American Railroad. \nOur Museum houses some of the country’s most well-preserved locomotives\, which includes several sole survivors of their respective classes. Our RailGiants collection contains two of the four surviving 3-Cylinder steam locomotives; SP #5021 and UP #9000. The largest diesel locomotive\, a Union Pacific “Centennial\,” is also here. In addition to our locomotives\, we have various pieces of Rolling Stock (freight and passenger cars)\, our historic Arcadia Depot\, library archives\, and gift shop. \nWe are open free to the public during the second weekend of each month\, except in May\, from 10 am to 5 pm. Ample parking is available. \nLearn More
URL:https://inlandempiremagazine.com/event/railgiants-train-museum-14/
LOCATION:Pomona Fairplex\, 1101 Mckinley\, Pomona\, CA
CATEGORIES:Museums
ATTACH;FMTTYPE=image/jpeg:https://inlandempiremagazine.com/wp-content/uploads/2026/01/5D1_9391-2048x1365-1.jpg
END:VEVENT
BEGIN:VEVENT
DTSTART;TZID=UTC:20260208T140000
DTEND;TZID=UTC:20260208T140000
DTSTAMP:20260425T022356
CREATED:20260127T144810Z
LAST-MODIFIED:20260127T144820Z
UID:21034-1770559200-1770559200@inlandempiremagazine.com
SUMMARY:Steamroller: The James Taylor Tribute
DESCRIPTION:Buy Tickets\nSelect your seats here!\n\n\n\n\n\n\nSTEAMROLLER – THE JAMES TAYLOR TRIBUTE is Sam Hyman’s masterful tribute to the music of James Taylor. Sam’s Steamroller Show features captivating performances of James Taylor favorites with sing-alongs and stories that offer an engaging look into the creation of Taylor’s timeless\, classic additions to the American Songbook. Steamroller is an unforgettable show you’ll want to see again and again!This show is another exceptional show presented by Jim Curry Music. Great performances of truly timeless songs. Come sing along and bring your friends and family.  There will be a special guest performance by Jim Curry.
URL:https://inlandempiremagazine.com/event/steamroller-the-james-taylor-tribute/
LOCATION:Lewis Family Playhouse\, 12505 Cultural Center Drive\,\, Rancho Cuc
CATEGORIES:Shows
ATTACH;FMTTYPE=image/png:https://inlandempiremagazine.com/wp-content/uploads/2026/01/steamroller.png
END:VEVENT
END:VCALENDAR