BEGIN:VCALENDAR
VERSION:2.0
PRODID:-//Inland Empire Magazine - ECPv6.15.20//NONSGML v1.0//EN
CALSCALE:GREGORIAN
METHOD:PUBLISH
X-WR-CALNAME:Inland Empire Magazine
X-ORIGINAL-URL:https://inlandempiremagazine.com
X-WR-CALDESC:Events for Inland Empire Magazine
REFRESH-INTERVAL;VALUE=DURATION:PT1H
X-Robots-Tag:noindex
X-PUBLISHED-TTL:PT1H
BEGIN:VTIMEZONE
TZID:UTC
BEGIN:STANDARD
TZOFFSETFROM:+0000
TZOFFSETTO:+0000
TZNAME:UTC
DTSTART:20250101T000000
END:STANDARD
END:VTIMEZONE
BEGIN:VEVENT
DTSTART;TZID=UTC:20260117T140000
DTEND;TZID=UTC:20260117T190000
DTSTAMP:20260425T035239
CREATED:20251229T180144Z
LAST-MODIFIED:20251229T184128Z
UID:20981-1768658400-1768676400@inlandempiremagazine.com
SUMMARY:Buckets N Boards
DESCRIPTION:BUCKETS N BOARDS: COMEDY PERCUSSION SHOW! \n Get ready for a night that will have you laughing\, clapping\, and dancing in your seat! Buckets N Boards is taking over the YPAC stage on January 17th with their one-of-a-kind\, all-ages percussion comedy extravaganza!  \nThis award-winning duo—Matthew Levingston & Gareth Sever—(fresh off Disney Cruise Lines and 14 seasons in Branson!) bring the ultimate mix of: Side-splitting comedy songs Show-stopping tap dancing World-class drumming Audience-fueled improv fun \nIt’s the perfect night out for families\, date nights\, and anyone who just LOVES to have a good time!  \n TWO SHOWS ONLY: 2PM & 7PM! Snag your tickets now before they’re gone—this is one you’ll be talking about long after the curtain falls!
URL:https://inlandempiremagazine.com/event/buckets-n-boards/
LOCATION:Yucaipa Performing Arts Center\,\, 12062 California St.\,\, Yucaipa\, CA
CATEGORIES:Shows
ATTACH;FMTTYPE=image/jpeg:https://inlandempiremagazine.com/wp-content/uploads/2025/12/thumbnail-23.jpeg
END:VEVENT
END:VCALENDAR