BEGIN:VCALENDAR
VERSION:2.0
PRODID:-//Inland Empire Magazine - ECPv6.15.20//NONSGML v1.0//EN
CALSCALE:GREGORIAN
METHOD:PUBLISH
X-WR-CALNAME:Inland Empire Magazine
X-ORIGINAL-URL:https://inlandempiremagazine.com
X-WR-CALDESC:Events for Inland Empire Magazine
REFRESH-INTERVAL;VALUE=DURATION:PT1H
X-Robots-Tag:noindex
X-PUBLISHED-TTL:PT1H
BEGIN:VTIMEZONE
TZID:UTC
BEGIN:STANDARD
TZOFFSETFROM:+0000
TZOFFSETTO:+0000
TZNAME:UTC
DTSTART:20240101T000000
END:STANDARD
END:VTIMEZONE
BEGIN:VEVENT
DTSTART;TZID=UTC:20251126T000000
DTEND;TZID=UTC:20260104T000000
DTSTAMP:20260425T040116
CREATED:20251124T203342Z
LAST-MODIFIED:20251124T203622Z
UID:20865-1764115200-1767484800@inlandempiremagazine.com
SUMMARY:Imaginarium - Land of Oz
DESCRIPTION:Imaginarium — Land of Oz\nImaginarium returns to Fairplex by popular demand! Experience an all-new Imaginarium\, bigger and better than ever. Holiday Magic is the largest holiday light show in Southern California! Venture into an electrifying adventure for all ages.\n\nImaginarium “Wizard of Oz” is a family-friendly walk-through event appealing to all ages. The outdoor immersive light experience spans over two acres in the Fairplex parking lot.\n\nBeautiful pictorial gardens with 20\,000 LED roses\, in multiple colors\, sets the perfect social media picture backdrop.\n\nGuests make their way through illuminated forest mazes with an other-worldly feel. Positioned throughout the event are over 25 enormous fantasy creatures and storybook characters bathed in light and often sound.\n\nFeatures:\n\nThe Farm\n\nThe Tornado and the Portal Beyond\nRainbow Bridge and Dream Village\n\n\n\n\n\nScarecrow\n\nYellow Brick Road and the Floating Tomes\n\n\n Tin Man\n\nIronwood Forest and the Tin Knight\n\n\nLion\n\nBeast Trials and the Cowardly Lion\n\n\nPoppy Dreams & Butterfly Illusions\nEmerald City\n\nSecrets of Emerald City and the Meteor Guardians\nFinal Duel and the Clocktower of Time\n\n\n\n\nImaginarium “Wizard of Oz” Highlights:\n✪    Cirque Legacy – Cirque Legacy brings a variety of traditional circus acts to the stage in Fairplex for multiple FREE performances each night.\n✪    Millions of lights amid miles of holiday cheer\n✪    Free Circus included with admission. Circus performs 2-3 times each night.\n✪    Christmas trees\, illuminated stars\, & familiar holiday characters\n✪    Balloon drops and a ball pit\, scavenger hunt\n✪    Carnival rides and games (separate ride wristband required)\n✪    On-site food & beverages\, featuring holiday treats\n  \nJoin us at Fairplex\, select night starting November 26 – January 4! Open on Thanksgiving Day.
URL:https://inlandempiremagazine.com/event/imaginarium-land-of-oz/
LOCATION:Pomona Fairplex\, 1101 Mckinley\, Pomona\, CA
CATEGORIES:Holiday Celebrations
ATTACH;FMTTYPE=image/jpeg:https://inlandempiremagazine.com/wp-content/uploads/2025/11/Imaginarium-25_1600×600-Banner.jpg
END:VEVENT
END:VCALENDAR