BEGIN:VCALENDAR
VERSION:2.0
PRODID:-//Inland Empire Magazine - ECPv6.15.20//NONSGML v1.0//EN
CALSCALE:GREGORIAN
METHOD:PUBLISH
X-WR-CALNAME:Inland Empire Magazine
X-ORIGINAL-URL:https://inlandempiremagazine.com
X-WR-CALDESC:Events for Inland Empire Magazine
REFRESH-INTERVAL;VALUE=DURATION:PT1H
X-Robots-Tag:noindex
X-PUBLISHED-TTL:PT1H
BEGIN:VTIMEZONE
TZID:UTC
BEGIN:STANDARD
TZOFFSETFROM:+0000
TZOFFSETTO:+0000
TZNAME:UTC
DTSTART:20240101T000000
END:STANDARD
END:VTIMEZONE
BEGIN:VEVENT
DTSTART;TZID=UTC:20250830T000000
DTEND;TZID=UTC:20250928T000000
DTSTAMP:20260425T104636
CREATED:20250728T211204Z
LAST-MODIFIED:20250728T211215Z
UID:20673-1756512000-1759017600@inlandempiremagazine.com
SUMMARY:Jonah!
DESCRIPTION:The biblical account of Jonah is retold with a fun look at faith in this amusing new musical.  The reluctant prophet’s foolish attempts to outrun God lead to hilarious misadventures.  But amidst the mirth and mayhem is a whale of a lesson pointing to God’s redemptive grace—and timely reminders for today.
URL:https://inlandempiremagazine.com/event/jonah/
LOCATION:LifeHouse Theater\, 1135 N. Church St.\,\, Redlands\, CA
CATEGORIES:Shows
ATTACH;FMTTYPE=image/png:https://inlandempiremagazine.com/wp-content/uploads/2025/07/Jonah-logo-630x307-1.png
END:VEVENT
BEGIN:VEVENT
DTSTART;TZID=UTC:20250920T110000
DTEND;TZID=UTC:20250920T160000
DTSTAMP:20260425T104636
CREATED:20250825T174918Z
LAST-MODIFIED:20250825T174932Z
UID:20722-1758366000-1758384000@inlandempiremagazine.com
SUMMARY:Beasts & Bones
DESCRIPTION:Uncover the creatures of the past to the present – from tooth to tail! San Bernardino County Museum invites you to its first ever Beasts and Bones event This new\, family-friendly celebration is an energy-filled day of live reptiles & raptors\, prehistoric fossils\, expert partners\, arts & crafts\, and food vendors. General admission is $10 (adult)\, $8 (military or senior)\, $7 (student)\, and $5 (child ages 6 to 12). Children five and under and Museum Association members are admitted free. Parking is free\, and the museum is accessible to persons with disabilities.
URL:https://inlandempiremagazine.com/event/beasts-bones/
LOCATION:San Bernardino County Museum\, 2024 Orange Tree Lane\, San Bernardino
CATEGORIES:Fairs
ATTACH;FMTTYPE=image/jpeg:https://inlandempiremagazine.com/wp-content/uploads/2025/08/2025-SBCM-Beasts-and-Bones-Event-Cover-Generic-scaled-1.jpg
END:VEVENT
BEGIN:VEVENT
DTSTART;TZID=UTC:20250920T140000
DTEND;TZID=UTC:20250920T190000
DTSTAMP:20260425T104636
CREATED:20250825T174550Z
LAST-MODIFIED:20250825T174600Z
UID:20719-1758376800-1758394800@inlandempiremagazine.com
SUMMARY:The Chipper Experience
DESCRIPTION:The Chipper Experience – Where Comedy and Magic Collide! \nThis high-energy comedy smash starring two-time “Comedy Magician of the Year!”\, Chipper Lowell\, has been garnering rave reviews by critics and audiences alike over the past nine years! \nThe manic\, red-headed comedian blends funny stand-up\, original and visual magic\, bizarre juggling stunts\, jaw-dropping mentalism\, music\, and more into his award-winning\, one-man show\, perfect for all ages – from 9 to 99!   Now in its 15th year\, Chipper’s rapid-fire delivery\, surprise ad-libs and improvisation are a perfect match for his quirky brand of hocus pocus. \nHis edgy yet clean comedy & magic has been featured on dozens of television shows including The Tonight Show\, Disney Channel\, Show Me The Funny!\, America’s Funniest People\, Don’t Blink\, and all 10 seasons of the hit show\, Masters Of Illusion\, on the CW network!  Treat yourself and your friends\, families\, neighbors and even your enemies to a fun-filled\, laughs-a-plenty\, roller coaster of a ride! \nExperience the excitement live at The Yucaipa Performing Arts Center for 2 SHOWS on September 20th! Don’t miss your chance to see “The Chipper Experience” — where comedy and magic collide! \n\n\nSATURDAY 2:00PM (09/20/25)\n\n\n\nGET TICKETS HERE!\n\n\n\n\nSATURDAY 7:00PM (09/20/25)\n\n\n\nGET TICKETS HERE!
URL:https://inlandempiremagazine.com/event/the-chipper-experience/
LOCATION:Yucaipa Performing Arts Center\,\, 12062 California St.\,\, Yucaipa\, CA
CATEGORIES:Shows
ATTACH;FMTTYPE=image/jpeg:https://inlandempiremagazine.com/wp-content/uploads/2025/08/Facebook-Event-Images-32-scaled-Medium.jpeg
END:VEVENT
BEGIN:VEVENT
DTSTART;TZID=UTC:20250920T200000
DTEND;TZID=UTC:20250920T200000
DTSTAMP:20260425T104636
CREATED:20250825T174113Z
LAST-MODIFIED:20250825T174252Z
UID:20715-1758398400-1758398400@inlandempiremagazine.com
SUMMARY:Kevin Nealon
DESCRIPTION:Buy Tickets\nSelect your seats here!\n\n\n\n\n\n\nKick off the season with laughs\, memories\, and feel-good energy as SNL alum Kevin Nealon takes the stage for one unforgettable night. Known for his sharp wit\, sly charm\, and effortlessly hilarious stand-up\, Nealon brings decades of comedy gold—from iconic characters like “Hans and Franz” to film favorites like Happy Gilmore\, Just Go With It\, and The Wedding Singer. With Emmy nominations and a career that’s been a highlight reel of humor\, Nealon’s storytelling is personal\, his timing masterful\, and his presence like catching up with an old friend—one who’s even funnier than you remembered. Don’t miss this night of laughter and joy!
URL:https://inlandempiremagazine.com/event/kevin-nealon/
LOCATION:Lewis Family Playhouse\, 12505 Cultural Center Drive\,\, Rancho Cuc
CATEGORIES:Shows
ATTACH;FMTTYPE=image/png:https://inlandempiremagazine.com/wp-content/uploads/2025/08/Kevin-Nealon.png
END:VEVENT
END:VCALENDAR