BEGIN:VCALENDAR
VERSION:2.0
PRODID:-//Inland Empire Magazine - ECPv6.15.20//NONSGML v1.0//EN
CALSCALE:GREGORIAN
METHOD:PUBLISH
X-ORIGINAL-URL:https://inlandempiremagazine.com
X-WR-CALDESC:Events for Inland Empire Magazine
REFRESH-INTERVAL;VALUE=DURATION:PT1H
X-Robots-Tag:noindex
X-PUBLISHED-TTL:PT1H
BEGIN:VTIMEZONE
TZID:UTC
BEGIN:STANDARD
TZOFFSETFROM:+0000
TZOFFSETTO:+0000
TZNAME:UTC
DTSTART:20240101T000000
END:STANDARD
END:VTIMEZONE
BEGIN:VEVENT
DTSTART;TZID=UTC:20250830T000000
DTEND;TZID=UTC:20250928T000000
DTSTAMP:20260425T104724
CREATED:20250728T211204Z
LAST-MODIFIED:20250728T211215Z
UID:20673-1756512000-1759017600@inlandempiremagazine.com
SUMMARY:Jonah!
DESCRIPTION:The biblical account of Jonah is retold with a fun look at faith in this amusing new musical.  The reluctant prophet’s foolish attempts to outrun God lead to hilarious misadventures.  But amidst the mirth and mayhem is a whale of a lesson pointing to God’s redemptive grace—and timely reminders for today.
URL:https://inlandempiremagazine.com/event/jonah/
LOCATION:LifeHouse Theater\, 1135 N. Church St.\,\, Redlands\, CA
CATEGORIES:Shows
ATTACH;FMTTYPE=image/png:https://inlandempiremagazine.com/wp-content/uploads/2025/07/Jonah-logo-630x307-1.png
END:VEVENT
BEGIN:VEVENT
DTSTART;TZID=UTC:20250905T140000
DTEND;TZID=UTC:20250907T190000
DTSTAMP:20260425T104724
CREATED:20250825T153120Z
LAST-MODIFIED:20250825T153130Z
UID:20697-1757080800-1757271600@inlandempiremagazine.com
SUMMARY:Joseph and the Amazing Technicolor Dreamcoat
DESCRIPTION:✨ Get ready for a vibrant journey with YPAC Live and Legendary Productions as we present the beloved musical\, *Joseph and the Amazing Technicolor Dreamcoat*! 🌈 Join us on stage for four unforgettable performances from September 5-7. Experience the timeless tale of Joseph\, his dreams\, and his colorful coat\, brought to life through Andrew Lloyd Webber’s captivating music and enchanting storytelling. From the joyful “Any Dream Will Do” to the unforgettable “Close Every Door\,” this musical is a celebration of hope\, family\, and the power of dreams. Don’t miss your chance to be part of this spectacular show! Tickets are on sale now—secure your seats today and prepare for a dazzling night of entertainment! \nFRIDAY 7PM (09/05/25)\n\n\n\nGET TICKETS HERE!\n\n\n\n\nSATURDAY 2PM (09/06/25)\n\n\n\nGET TICKETS HERE!\n\n\n\n\nSATURDAY 7PM (09/06/25)\n\n\n\nGET TICKETS HERE!\n\n\n\n\nSUNDAY 2PM (09/07/25)\n\n\n\nGET TICKETS HERE!
URL:https://inlandempiremagazine.com/event/joseph-and-the-amazing-technicolor-dreamcoat-3/
LOCATION:Yucaipa Performing Arts Center\,\, 12062 California St.\,\, Yucaipa\, CA
CATEGORIES:Concerts
ATTACH;FMTTYPE=image/png:https://inlandempiremagazine.com/wp-content/uploads/2025/08/Facebook-Event-Images-29.png
END:VEVENT
BEGIN:VEVENT
DTSTART;TZID=UTC:20250907T173000
DTEND;TZID=UTC:20250907T210000
DTSTAMP:20260425T104724
CREATED:20250825T153533Z
LAST-MODIFIED:20250825T153543Z
UID:20701-1757266200-1757278800@inlandempiremagazine.com
SUMMARY:98 Degrees
DESCRIPTION:8 Degrees is an internationally acclaimed\, multi-platinum\, multi-award winning\, and nominated vocal group comprised of brothers Nick and Drew Lachey\, Jeff Timmons\, and Justin Jeffre. The group has sold over 15 million albums worldwide with 4 Top 5 Billboard charting radio singles\, including mega-hits such as “The Hardest Thing.” “I Do\, Cherish You\,” “Because of You\,” and the number one hit single featuring Mariah Carey called\, “Thank God I Found You.” 98 Degrees albums have reached gold or platinum status in more than 60 countries worldwide. Their first Christmas album\, “98 Degrees This Christmas\,” has sold over two million copies and is widely recognized as one of the most successful holiday albums ever. \nDoors Open: 5:30pm* \nShow Time: TBA \nPURCHASE TICKETS ONLY ONLINE: DLtickets.com \nMUST PURCHASE TICKETS ONLINE – RESERVED SEATING ONLY\nALL TICKET SALES ARE FINAL (No Outside Food/Drinks/Chairs)\n*Please show up early to redeem your wristbands at the door. \nVendor Opportunities: ShopDosLagos.com/VENDOR \nSponsorship Opportunities Email: Marketing@ShopDosLagos.com \nDos Lagos Entertainment Center & Amphitheater – 2755 Lakeshore Dr\, Corona CA 92883
URL:https://inlandempiremagazine.com/event/98-degrees/
LOCATION:Dos Lagos Amphitheater\, 2755 Lakeshore Dr\, Corona\, CA
CATEGORIES:Concerts
ATTACH;FMTTYPE=image/jpeg:https://inlandempiremagazine.com/wp-content/uploads/2025/08/Website-98-Degrees-2025.jpg
END:VEVENT
END:VCALENDAR