BEGIN:VCALENDAR
VERSION:2.0
PRODID:-//Inland Empire Magazine - ECPv6.15.20//NONSGML v1.0//EN
CALSCALE:GREGORIAN
METHOD:PUBLISH
X-WR-CALNAME:Inland Empire Magazine
X-ORIGINAL-URL:https://inlandempiremagazine.com
X-WR-CALDESC:Events for Inland Empire Magazine
REFRESH-INTERVAL;VALUE=DURATION:PT1H
X-Robots-Tag:noindex
X-PUBLISHED-TTL:PT1H
BEGIN:VTIMEZONE
TZID:UTC
BEGIN:STANDARD
TZOFFSETFROM:+0000
TZOFFSETTO:+0000
TZNAME:UTC
DTSTART:20240101T000000
END:STANDARD
END:VTIMEZONE
BEGIN:VEVENT
DTSTART;TZID=UTC:20250830T000000
DTEND;TZID=UTC:20250928T000000
DTSTAMP:20260425T123202
CREATED:20250728T211204Z
LAST-MODIFIED:20250728T211215Z
UID:20673-1756512000-1759017600@inlandempiremagazine.com
SUMMARY:Jonah!
DESCRIPTION:The biblical account of Jonah is retold with a fun look at faith in this amusing new musical.  The reluctant prophet’s foolish attempts to outrun God lead to hilarious misadventures.  But amidst the mirth and mayhem is a whale of a lesson pointing to God’s redemptive grace—and timely reminders for today.
URL:https://inlandempiremagazine.com/event/jonah/
LOCATION:LifeHouse Theater\, 1135 N. Church St.\,\, Redlands\, CA
CATEGORIES:Shows
ATTACH;FMTTYPE=image/png:https://inlandempiremagazine.com/wp-content/uploads/2025/07/Jonah-logo-630x307-1.png
END:VEVENT
BEGIN:VEVENT
DTSTART;TZID=UTC:20250830T173000
DTEND;TZID=UTC:20250830T173000
DTSTAMP:20260425T123202
CREATED:20250728T210634Z
LAST-MODIFIED:20250728T210647Z
UID:20667-1756575000-1756575000@inlandempiremagazine.com
SUMMARY:Tracy Byrd
DESCRIPTION:Doors Open: 5:30pm* \nOpener: 6:00pm* \nTRACY BYRD Showtime: 7:30PM \nPURCHASE TICKETS ONLY ONLINE: DLtickets.com \nMUST PURCHASE TICKETS ONLINE – RESERVED SEATING ONLY\nALL TICKET SALES ARE FINAL (No Outside Food/Drinks/Chairs)\n*Please show up early to redeem your wristbands at the door. \nVendor Opportunities: ShopDosLagos.com/VENDOR \nSponsorship Opportunities Email: Marketing@ShopDosLagos.com \nDos Lagos Entertainment Center & Amphitheater – 2755 Lakeshore Dr\, Corona CA 92883
URL:https://inlandempiremagazine.com/event/tracy-byrd/
LOCATION:Dos Lagos Amphitheater\, 2755 Lakeshore Dr\, Corona\, CA
CATEGORIES:Concerts
ATTACH;FMTTYPE=image/jpeg:https://inlandempiremagazine.com/wp-content/uploads/2025/07/BOOST-Tracy-Byrd-2025.jpg
END:VEVENT
BEGIN:VEVENT
DTSTART;TZID=UTC:20250830T190000
DTEND;TZID=UTC:20250830T220000
DTSTAMP:20260425T123202
CREATED:20250728T210919Z
LAST-MODIFIED:20250728T210936Z
UID:20670-1756580400-1756591200@inlandempiremagazine.com
SUMMARY:Cosmic Nights
DESCRIPTION:Join us for Cosmic Nights with our partner\, the San Bernardino Valley Amateur Astronomers (SBVAA). The event takes place outdoors\, weather permitting\, and guests are advised to wear comfortable clothing and shoes. Museum galleries will be open during the event. General admission is $10 (adult)\, $8 (military or senior)\, $7 (student)\, and $5 (child ages 6 to 12). Children five and under are free. Museum Foundation members receive a 50% discount on admission. Parking is free. The museum is accessible to persons with disabilities. The partnership helps SBVAA\, founded in 1958\, achieve their goal of introducing the community to astronomy\, to organize amateur astronomers in the San Bernardino Valley area\, and to increase knowledge and excitement in astronomy.
URL:https://inlandempiremagazine.com/event/cosmic-nights-2/
LOCATION:San Bernardino County Museum\, 2024 Orange Tree Lane\, San Bernardino
CATEGORIES:Shows
ATTACH;FMTTYPE=image/jpeg:https://inlandempiremagazine.com/wp-content/uploads/2025/07/2025-SBCM-Cosmic-Nights-Event-Cover-Generic-2048x1089-1.jpg
END:VEVENT
END:VCALENDAR