BEGIN:VCALENDAR
VERSION:2.0
PRODID:-//Inland Empire Magazine - ECPv6.15.20//NONSGML v1.0//EN
CALSCALE:GREGORIAN
METHOD:PUBLISH
X-ORIGINAL-URL:https://inlandempiremagazine.com
X-WR-CALDESC:Events for Inland Empire Magazine
REFRESH-INTERVAL;VALUE=DURATION:PT1H
X-Robots-Tag:noindex
X-PUBLISHED-TTL:PT1H
BEGIN:VTIMEZONE
TZID:UTC
BEGIN:STANDARD
TZOFFSETFROM:+0000
TZOFFSETTO:+0000
TZNAME:UTC
DTSTART:20240101T000000
END:STANDARD
END:VTIMEZONE
BEGIN:VEVENT
DTSTART;TZID=UTC:20250712T000000
DTEND;TZID=UTC:20250817T000000
DTSTAMP:20260425T123243
CREATED:20250626T144748Z
LAST-MODIFIED:20250626T144755Z
UID:20584-1752278400-1755388800@inlandempiremagazine.com
SUMMARY:The Music Man
DESCRIPTION:THE BROADWAY FAVORITE BRIGHTENS LIFEHOUSE THEATER! \nTraveling con man Harold Hill arrives in River City\, ready to fleece unsuspecting locals with sales of uniforms and musical instruments as he falsely promises to start a band.  But the unexpected happens when Harold falls in love with librarian Marian Paroo.  Will he experience a change of heart and ultimate redemption before it’s too late?  This celebrated Broadway hit and classic film makes its LifeHouse Theater premiere!         \nJuly 12 – August 17\, 2025
URL:https://inlandempiremagazine.com/event/the-music-man/
LOCATION:LifeHouse Theater\, 1135 N. Church St.\,\, Redlands\, CA
CATEGORIES:Shows
ATTACH;FMTTYPE=image/png:https://inlandempiremagazine.com/wp-content/uploads/2025/06/Music-Man-logo.png
END:VEVENT
BEGIN:VEVENT
DTSTART;TZID=UTC:20250726T110000
DTEND;TZID=UTC:20250803T160000
DTSTAMP:20260425T123243
CREATED:20250626T152114Z
LAST-MODIFIED:20250626T152121Z
UID:20603-1753527600-1754236800@inlandempiremagazine.com
SUMMARY:Joseph and the Amazing Technicolor Dreamcoat
DESCRIPTION:Tickets\nSaturday\, July 26\, 2025\, 11:00 am \nBuy Tickets \nSaturday\, July 26\, 2025\, 4:00 pm \nBuy Tickets \nSunday\, July 27\, 2025\, 11:00 am \nBuy Tickets \nSunday\, July 27\, 2025\, 4:00 pm \nBuy Tickets \nSaturday\, August 2\, 2025\, 11:00 am \nBuy Tickets \nSaturday\, August 2\, 2025\, 4:00 pm \nBuy Tickets \nSunday\, August 3\, 2025\, 11:00 am \nBuy Tickets \nSunday\, August 3\, 2025\, 4:00 pm \nBuy Tickets \nDon’t miss the adventure! Bring the whole family and experience Andrew Lloyd Webber’s dazzling\, fun-filled musical Joseph and the Amazing Technicolor Dreamcoat! \nGet your tickets now and join us for a show that’s sure to inspire and entertain!
URL:https://inlandempiremagazine.com/event/joseph-and-the-amazing-technicolor-dreamcoat-2/
LOCATION:Lewis Family Playhouse\, 12505 Cultural Center Drive\,\, Rancho Cuc
CATEGORIES:Concerts
ATTACH;FMTTYPE=image/png:https://inlandempiremagazine.com/wp-content/uploads/2025/06/Joseph1080x1080_0.png
END:VEVENT
BEGIN:VEVENT
DTSTART;TZID=UTC:20250801T200000
DTEND;TZID=UTC:20250801T200000
DTSTAMP:20260425T123243
CREATED:20250728T203112Z
LAST-MODIFIED:20250728T203138Z
UID:20641-1754078400-1754078400@inlandempiremagazine.com
SUMMARY:State Street Ballet of Santa Barbara
DESCRIPTION:Choreographed by State Street Ballet Founding Director Rodney Gustafson\, with an original score by Czech composer and conductor Milan Svoboda\, The Jungle Book premiered to enthusiastic audiences\, instantly being called a ‘a joy to behold\,’ and ‘visually stunning.’ \nFollowing the adventures of jungle boy Mowgli\, The Jungle Book transports viewers through a mystical land of wolves\, snakes\, monkeys\, and panthers\, showcasing relationships and alliances in an iconic coming-of-age story. \nThe Jungle Book — State Street Ballet
URL:https://inlandempiremagazine.com/event/state-street-ballet-of-santa-barbara/
LOCATION:Redlands Bowl\, 25 Grant St\, Redlands\, CA\, 92373
CATEGORIES:Shows
ATTACH;FMTTYPE=image/jpeg:https://inlandempiremagazine.com/wp-content/uploads/2025/07/81JB.jpg
END:VEVENT
END:VCALENDAR