BEGIN:VCALENDAR
VERSION:2.0
PRODID:-//Inland Empire Magazine - ECPv6.15.20//NONSGML v1.0//EN
CALSCALE:GREGORIAN
METHOD:PUBLISH
X-WR-CALNAME:Inland Empire Magazine
X-ORIGINAL-URL:https://inlandempiremagazine.com
X-WR-CALDESC:Events for Inland Empire Magazine
REFRESH-INTERVAL;VALUE=DURATION:PT1H
X-Robots-Tag:noindex
X-PUBLISHED-TTL:PT1H
BEGIN:VTIMEZONE
TZID:UTC
BEGIN:STANDARD
TZOFFSETFROM:+0000
TZOFFSETTO:+0000
TZNAME:UTC
DTSTART:20240101T000000
END:STANDARD
END:VTIMEZONE
BEGIN:VEVENT
DTSTART;TZID=UTC:20250524T000000
DTEND;TZID=UTC:20250629T000000
DTSTAMP:20260425T155642
CREATED:20250527T210728Z
LAST-MODIFIED:20250527T210728Z
UID:20492-1748044800-1751155200@inlandempiremagazine.com
SUMMARY:The Wizard of Oz
DESCRIPTION:A DELIGHTFUL JOURNEY TO ENCHANTMENT \nShare the joy\, fun and adventure as Dorothy takes a musical trip “down that dusty road” in Kansas to the yellow brick road that leads to Oz.  The beloved Scarecrow\, Tin Man and Cowardly Lion are on hand to help face treacherous challenges\, a wicked Witch and a wily Wizard.  All discover there truly is “no place like home” in this touching Inland Empire favorite.
URL:https://inlandempiremagazine.com/event/the-wizard-of-oz-3/
LOCATION:LifeHouse Theater\, 1135 N. Church St.\,\, Redlands\, CA
CATEGORIES:Shows
ATTACH;FMTTYPE=image/png:https://inlandempiremagazine.com/wp-content/uploads/2025/05/Wizard-of-Oz-logo-Shirt-Design.png
END:VEVENT
BEGIN:VEVENT
DTSTART;TZID=UTC:20250524T100000
DTEND;TZID=UTC:20250622T190000
DTSTAMP:20260425T155642
CREATED:20250425T001330Z
LAST-MODIFIED:20250425T002221Z
UID:20435-1748080800-1750618800@inlandempiremagazine.com
SUMMARY:Koroneburg Renaissance Festival
DESCRIPTION:The festival began in 1998\, which means we’ve been around for more than 20 years! Entertaining families and friends for such a long time is a true privilege and a testament of our fantastic vendors\, entertainers\, and staff. \nAfter almost two decades of success as a renaissance festival\, we took a year long break–before reopening under new\, exciting management! This change has allowed the festival to continue to grow and thrive (which we’re all thrilled to see).
URL:https://inlandempiremagazine.com/event/koroneburg-renaissance-festival-3/
LOCATION:Riverview Recreation Park\, 4600 Baron Drive\, Eastvale\, CA
CATEGORIES:Festivals
ATTACH;FMTTYPE=image/webp:https://inlandempiremagazine.com/wp-content/uploads/2025/04/19400080_10154472944541987_1363907918125184426_n.jpg.bv_resized_desktop.jpg.bv_.webp
END:VEVENT
BEGIN:VEVENT
DTSTART;TZID=UTC:20250620T000000
DTEND;TZID=UTC:20250706T000000
DTSTAMP:20260425T155642
CREATED:20250527T213406Z
LAST-MODIFIED:20250527T213406Z
UID:20508-1750377600-1751760000@inlandempiremagazine.com
SUMMARY:Man of La Mancha
DESCRIPTION:Man of La Mancha\nBook by Dale Wasserman\n​Music and lyrics by Mitch Leigh and Joe Darian\nDirected by Zach Simons \nJune 20th – July 6th\, 2025 \nMan of La Mancha\, based on Cervantes’ epic 17th-century novel\, Don Quixote\, is a remarkable\, poignant\, moving musical that was one of the first shows to musicalize a piece of historical literature. \nSet in the context of the Spanish Inquisition\, author Miguel de Cervantes enlists his fellow prisoners as characters in his play to tell the story of the aged Alonso Quijana. A man who believes himself to be a knight errant\, names himself Don Quixote\, and pursues an obsessive quest to attain an impossible dream. Against all odds\, Quixote and his trusty squire Sancho Panza take to the road in a quest to chivalry\, and seek out the good and innocent in a world filled with darkness and despair. \n\n\n 
URL:https://inlandempiremagazine.com/event/man-of-la-mancha/
LOCATION:Riverside Community Players\, s\, 4026 Fourteenth Street\,\, Riverside\, CA
CATEGORIES:Concerts,Shows
ATTACH;FMTTYPE=image/png:https://inlandempiremagazine.com/wp-content/uploads/2025/05/man-of-lamancha-2_orig.png
END:VEVENT
BEGIN:VEVENT
DTSTART;TZID=UTC:20250620T200000
DTEND;TZID=UTC:20250620T200000
DTSTAMP:20260425T155642
CREATED:20250527T212903Z
LAST-MODIFIED:20250527T212931Z
UID:20504-1750449600-1750449600@inlandempiremagazine.com
SUMMARY:Celebrating the Legacy of Whitney Houston and Other Great Pop Divas
DESCRIPTION:Featuring Nicole Henry with Festival Orchestra \nA Bowl opening evening celebrating the greatest female voices of all time\, including Whitney Houston\, whose timeless hits include ‘The Greatest Love of All\,’ ‘I Have Nothing\,’ ‘I Look to You\,’ ‘I Will Always Love You\,’ ‘Didn’t We Almost Have It All\,’ and ‘I Wanna Dance with Somebody.’\n\n\n\n\nNicole Henry is one of the jazz world’s most acclaimed vocalists\, possessing a potent combination of dynamic vocal abilities\, impeccable phrasing\, and powerful emotional resonance. Her passionate\, soulful voice and heartfelt charisma have earned her a Soul Train Award for ‘Best Traditional Jazz Performance\,’ and three Top 10 U.S. Billboard albums. \nA pop-soul superwoman whose every gesture and inflection conveyed confidence and mastery. She phrases with a freewheeling sense of play that never loses sight of the subject at hand.\n-The New York Times \nAward Winning Vocalist | Nicole Henry \n\n\n\n\nSponsored by Esri
URL:https://inlandempiremagazine.com/event/celebrating-the-legacy-of-whitney-houston-and-other-great-pop-divas/
LOCATION:Redlands Bowl\, 25 Grant St\, Redlands\, CA\, 92373
CATEGORIES:Concerts,Shows
ATTACH;FMTTYPE=image/jpeg:https://inlandempiremagazine.com/wp-content/uploads/2025/05/620NH.jpg
END:VEVENT
END:VCALENDAR