BEGIN:VCALENDAR
VERSION:2.0
PRODID:-//Inland Empire Magazine - ECPv6.15.20//NONSGML v1.0//EN
CALSCALE:GREGORIAN
METHOD:PUBLISH
X-WR-CALNAME:Inland Empire Magazine
X-ORIGINAL-URL:https://inlandempiremagazine.com
X-WR-CALDESC:Events for Inland Empire Magazine
REFRESH-INTERVAL;VALUE=DURATION:PT1H
X-Robots-Tag:noindex
X-PUBLISHED-TTL:PT1H
BEGIN:VTIMEZONE
TZID:UTC
BEGIN:STANDARD
TZOFFSETFROM:+0000
TZOFFSETTO:+0000
TZNAME:UTC
DTSTART:20240101T000000
END:STANDARD
END:VTIMEZONE
BEGIN:VEVENT
DTSTART;TZID=UTC:20250301T093000
DTEND;TZID=UTC:20250511T163000
DTSTAMP:20260425T190642
CREATED:20250228T144735Z
LAST-MODIFIED:20250228T145521Z
UID:20274-1740821400-1746981000@inlandempiremagazine.com
SUMMARY:The Flower Fields
DESCRIPTION:For over sixty years\, Mother Nature has transformed the rolling hills of North San Diego County into one of the most spectacular and coordinated displays of natural color and beauty anywhere in the world. The 55-acres of Giant Tecolote Ranunculus flowers that make up The Flower Fields at Carlsbad Ranch® in Carlsbad\, California\, are in bloom for approximately six to eight weeks each year – from early March through early May – literally bringing the famous fields back to life. This annual burst of color\, which has become part of the area’s local heritage\, also is one of nature’s official ways of announcing the arrival of spring here in Southern California. \nThe Flower Fields are an alcohol and tobacco-free environment. Pets\, Emotional Support Animals\, Drones\, Balloons\, and Bicycles are also not permitted.
URL:https://inlandempiremagazine.com/event/the-flower-fields/
LOCATION:Carlsbad Ranch\, 5704 Paseo del Norte\,\, Carlsbad\, CA
CATEGORIES:Farmer's Market
ATTACH;FMTTYPE=image/webp:https://inlandempiremagazine.com/wp-content/uploads/2025/02/header-logo.webp
END:VEVENT
BEGIN:VEVENT
DTSTART;TZID=UTC:20250410T190000
DTEND;TZID=UTC:20250410T190000
DTSTAMP:20260425T190642
CREATED:20250328T193112Z
LAST-MODIFIED:20250328T193144Z
UID:20341-1744311600-1744311600@inlandempiremagazine.com
SUMMARY:Sara Evans
DESCRIPTION:DON’T WAIT! GET YOUR TICKETS NOW!\n\n\n\n\n\nGET TICKETS!\n\n\n\n\nThe Yucaipa Performing Arts Center presents\, Multi-Platinum Country artist\, SARA EVANS as part of our YPAC Live series on our outdoor stage\, THURSDAY\, APRIL 10\, 2025! \nSara is at the top of her game as the fifth most-played female artist on country radio in nearly the last two decades. Her five No. 1 singles include “No Place That Far\,” “Suds In The Bucket\,” “A Real Fine Place To Start\,” “Born to Fly\,” and “A Little Bit Stronger.” Several of those #1’s spent 2 weeks in the top spot and were certified platinum by the R.I.A.A. Overall\, she’s had 15 songs chart in the top 20. Sara continues to thrill audiences around the world playing over 70 shows each year. Sara’s “stunning\, country voice” (Rolling Stone) has earned her the prestigious Academy of Country Music Top Female Vocalist accolade as well as numerous American Music Awards\, Billboard Music Awards\, Country Music Association\, CMT and Grammy Awards nominations. In addition\, the CMA awarded Video of the Year honors for her hit chart-topping single\, “Born to Fly” from her double-platinum album of the same name. Evans’ discography also includes the multi-platinum selling studio albums Real Fine Place and Restless as well as the gold-certified projects Stronger and No Place That Far. Evans is also a proud member of the Grand Ole Opry. This year Sara launched her podcast Diving In Deep and has had a wide array of guests featured on the show including Crystal Gayle\, Bill Anderson\, Martina McBride\, Ernest\, and many more. In addition to a prolific country music career\, Sara has been honored for her philanthropic work and in 2018 was presented the NAB Education Foundation’s Service To America Leadership Award. A Red Cross ambassador\, Sara received the national Crystal Cross award for her work with the disaster-relief organization and has helped raise funds for the CMA Foundation. A longtime supporter of St. Jude Children’s Research Hospital\, Sara continues to support the hospital as a cause dear to her heart. For more information on Sara Evans\, visit SaraEvans.com and engage with her on Facebook\, Twitter and Instagram.
URL:https://inlandempiremagazine.com/event/sara-evans/
LOCATION:Yucaipa Performing Arts Center\,\, 12062 California St.\,\, Yucaipa\, CA
CATEGORIES:Concerts
ATTACH;FMTTYPE=image/png:https://inlandempiremagazine.com/wp-content/uploads/2025/03/Facebook-Event-Images-15-Medium.png
END:VEVENT
END:VCALENDAR