BEGIN:VCALENDAR
VERSION:2.0
PRODID:-//Inland Empire Magazine - ECPv6.15.20//NONSGML v1.0//EN
CALSCALE:GREGORIAN
METHOD:PUBLISH
X-ORIGINAL-URL:https://inlandempiremagazine.com
X-WR-CALDESC:Events for Inland Empire Magazine
REFRESH-INTERVAL;VALUE=DURATION:PT1H
X-Robots-Tag:noindex
X-PUBLISHED-TTL:PT1H
BEGIN:VTIMEZONE
TZID:UTC
BEGIN:STANDARD
TZOFFSETFROM:+0000
TZOFFSETTO:+0000
TZNAME:UTC
DTSTART:20240101T000000
END:STANDARD
END:VTIMEZONE
BEGIN:VEVENT
DTSTART;TZID=UTC:20250214T000000
DTEND;TZID=UTC:20250302T000000
DTSTAMP:20260425T223103
CREATED:20250130T211707Z
LAST-MODIFIED:20250130T211707Z
UID:20180-1739491200-1740873600@inlandempiremagazine.com
SUMMARY:Twelfth Night or What You Will
DESCRIPTION:Love and (mistaken) identity\nFebruary 14 – March 2\, 2025\nAdapted and directed by Pamela Lambert \n7:30 PM — February 14\, 15\, 21\, 22\, 28\, & March 1\n2:00 PM — February 16 & 23 and March 1 & 2 \nAuditions: December 9 & 10\nBuy Tickets Online \nShakespeare’s beloved romantic comedy\, freshly adapted and staged as a Footlighters original production! Viola\, shipwrecked and separated from her twin\, Sebastian\, disguises herself as a boy and is invited to work for the Duke Orsino\, with whom she secretly falls in love. Orsino\, however\, is in love with the Countess Olivia\, and sends the disguised Viola to court her for him. In a shocking twist\, Olivia falls for Viola instead. The long-lost brother\, Sebastian\, finally arrives\, causing a flood of mistaken identity\, star-crossed love\, and happy endings for most.
URL:https://inlandempiremagazine.com/event/twelfth-night-or-what-you-will/
LOCATION:Redlands Footlighters\, 1810 Barton Road\, Redlands\, CA
CATEGORIES:Shows
ATTACH;FMTTYPE=image/png:https://inlandempiremagazine.com/wp-content/uploads/2025/01/Twelfth-with-author-1080x1080-1.png
END:VEVENT
BEGIN:VEVENT
DTSTART;TZID=UTC:20250217T190000
DTEND;TZID=UTC:20250217T190000
DTSTAMP:20260425T223103
CREATED:20250130T212303Z
LAST-MODIFIED:20250130T212327Z
UID:20186-1739818800-1739818800@inlandempiremagazine.com
SUMMARY:Harlem Globetrotters
DESCRIPTION:Harlem Globetrotters\n2025 World Tour\n\n\n\n\nBuy Tickets\n\n\n\n\nDate\nFeb 17\, 2025\n\nEvent Starts\n7:00 PM\n\nDoors Open\n6:00 PM\n\nOn Sale\nOn Sale Now\n\nParking\nPurchase Parking\n\n\n\n\n\n\nMonday\, February 177:00 PMBuy Tickets\n\n\nEvent Details\n\n\n\nClick here for Magic Pass and here for Celebrity Court Pass.
URL:https://inlandempiremagazine.com/event/harlem-globetrotters-2/
LOCATION:Toyota Arena\, 4000 East Ontario Center Parkway\,\, Ontario\, CA
CATEGORIES:Sports
ATTACH;FMTTYPE=image/png:https://inlandempiremagazine.com/wp-content/uploads/2025/01/Globe-Slide-9415154250.png
END:VEVENT
END:VCALENDAR