BEGIN:VCALENDAR
VERSION:2.0
PRODID:-//Inland Empire Magazine - ECPv6.15.20//NONSGML v1.0//EN
CALSCALE:GREGORIAN
METHOD:PUBLISH
X-ORIGINAL-URL:https://inlandempiremagazine.com
X-WR-CALDESC:Events for Inland Empire Magazine
REFRESH-INTERVAL;VALUE=DURATION:PT1H
X-Robots-Tag:noindex
X-PUBLISHED-TTL:PT1H
BEGIN:VTIMEZONE
TZID:UTC
BEGIN:STANDARD
TZOFFSETFROM:+0000
TZOFFSETTO:+0000
TZNAME:UTC
DTSTART:20240101T000000
END:STANDARD
END:VTIMEZONE
BEGIN:VEVENT
DTSTART;TZID=UTC:20250131T000000
DTEND;TZID=UTC:20250216T000000
DTSTAMP:20260425T223215
CREATED:20241230T211305Z
LAST-MODIFIED:20241230T211319Z
UID:19911-1738281600-1739664000@inlandempiremagazine.com
SUMMARY:One Flew Over the Cuckoo’s Nest
DESCRIPTION:One Flew Over the Cuckoo’s Nest by Dale Wasserman (Based on the Novel by Ken Kessey) Directed by Toni Lynd (Private Lives) January 31st – February 16th\, 2025 Please be aware\, there is no late seating This stage adaptation of Ken Kesey’s celebrated novel explores the brutality of life in a mental institution with humor\, candor\, and unforgettable characters. After being convicted of a petty crime\, a charming\, rebellious rogue named McMurphy contrives to serve his short sentence in an airy mental institution rather than in a prison. This\, he soon learns\, was a mistake. McMurphy immediately clashes with the authoritarian head nurse\, a fierce martinet named Nurse Ratched. Despite Ratched’s strict reign\, McMurphy quickly win over his fellow inmates and brings about humanity again. But McMurphy’s brash insubordination has its consequences.
URL:https://inlandempiremagazine.com/event/one-flew-over-the-cuckoos-nest/
LOCATION:Riverside Community Players\, s\, 4026 Fourteenth Street\,\, Riverside\, CA
CATEGORIES:Shows
ATTACH;FMTTYPE=image/png:https://inlandempiremagazine.com/wp-content/uploads/2024/12/cocoos-nest-1-1.png
END:VEVENT
END:VCALENDAR