BEGIN:VCALENDAR
VERSION:2.0
PRODID:-//Inland Empire Magazine - ECPv6.15.20//NONSGML v1.0//EN
CALSCALE:GREGORIAN
METHOD:PUBLISH
X-ORIGINAL-URL:https://inlandempiremagazine.com
X-WR-CALDESC:Events for Inland Empire Magazine
REFRESH-INTERVAL;VALUE=DURATION:PT1H
X-Robots-Tag:noindex
X-PUBLISHED-TTL:PT1H
BEGIN:VTIMEZONE
TZID:UTC
BEGIN:STANDARD
TZOFFSETFROM:+0000
TZOFFSETTO:+0000
TZNAME:UTC
DTSTART:20240101T000000
END:STANDARD
END:VTIMEZONE
BEGIN:VEVENT
DTSTART;TZID=UTC:20250117T000000
DTEND;TZID=UTC:20250212T000000
DTSTAMP:20260425T223212
CREATED:20241230T201654Z
LAST-MODIFIED:20241230T201805Z
UID:19889-1737072000-1739318400@inlandempiremagazine.com
SUMMARY:Freaky Friday
DESCRIPTION:Join us for an unforgettable experience this January 2025 as we bring to life the enchanting show\, Disney’s Freaky Friday: A New Musical! Based on the timeless 1972 novel by Mary Rodgers and the beloved Disney films\, this delightful production promises laughter\, heart\, and a sprinkle of magic! In this fresh and captivating update\, we follow the journey of an overworked mother and her spirited teenage daughter who\, in a twist of fate\, find themselves swapped into each other’s bodies! With just one day to navigate each other’s worlds\, prepare for a comedic rollercoaster as Katherine and Ellie discover the challenges and joys of each other’s lives. It’s a heartfelt tale of self-acceptance\, love\, and the powerful bond between mother and daughter that will leave you smiling and singing long after the curtain falls. You won’t want to miss this captivating show—there isn’t a bad seat in the house! Featuring a brilliant book by Bridget Carpenter (of Friday Night Lights fame) and music and lyrics by the Pulitzer Prize-winning duo Tom Kitt and Brian Yorkey (Next to Normal\, If/Then)\, Freaky Friday is the perfect blend of humor\, heart\, and toe-tapping tunes! With only **10 exclusive performances** in January\, tickets are on sale NOW! Don’t wait—grab your seat today for this magical journey that celebrates family\, understanding\, and the joy of simply being ourselves. Join us for the show that’s destined to make memories! \nHosted at the Yucaipa Performing Arts Center and presented by Legendary Productions\, known for their outstanding crew and talented cast\, this production promises to enchant audiences just like their previous shows such as Little Shop of Horrors\, Addams Family\, Annie\, & Beauty and the Beast. Mark your calendars for the performances! We’ll see you there!
URL:https://inlandempiremagazine.com/event/freaky-friday/
LOCATION:Yucaipa Performing Arts Center\,\, 12062 California St.\,\, Yucaipa\, CA
CATEGORIES:Shows
ATTACH;FMTTYPE=image/png:https://inlandempiremagazine.com/wp-content/uploads/2024/12/freaky-FB.png
END:VEVENT
BEGIN:VEVENT
DTSTART;TZID=UTC:20250131T000000
DTEND;TZID=UTC:20250216T000000
DTSTAMP:20260425T223212
CREATED:20241230T211305Z
LAST-MODIFIED:20241230T211319Z
UID:19911-1738281600-1739664000@inlandempiremagazine.com
SUMMARY:One Flew Over the Cuckoo’s Nest
DESCRIPTION:One Flew Over the Cuckoo’s Nest by Dale Wasserman (Based on the Novel by Ken Kessey) Directed by Toni Lynd (Private Lives) January 31st – February 16th\, 2025 Please be aware\, there is no late seating This stage adaptation of Ken Kesey’s celebrated novel explores the brutality of life in a mental institution with humor\, candor\, and unforgettable characters. After being convicted of a petty crime\, a charming\, rebellious rogue named McMurphy contrives to serve his short sentence in an airy mental institution rather than in a prison. This\, he soon learns\, was a mistake. McMurphy immediately clashes with the authoritarian head nurse\, a fierce martinet named Nurse Ratched. Despite Ratched’s strict reign\, McMurphy quickly win over his fellow inmates and brings about humanity again. But McMurphy’s brash insubordination has its consequences.
URL:https://inlandempiremagazine.com/event/one-flew-over-the-cuckoos-nest/
LOCATION:Riverside Community Players\, s\, 4026 Fourteenth Street\,\, Riverside\, CA
CATEGORIES:Shows
ATTACH;FMTTYPE=image/png:https://inlandempiremagazine.com/wp-content/uploads/2024/12/cocoos-nest-1-1.png
END:VEVENT
BEGIN:VEVENT
DTSTART;TZID=UTC:20250208T100000
DTEND;TZID=UTC:20250209T170000
DTSTAMP:20260425T223212
CREATED:20250130T210719Z
LAST-MODIFIED:20250130T212722Z
UID:20172-1739008800-1739120400@inlandempiremagazine.com
SUMMARY:RailGiants Train Museum
DESCRIPTION:RailGiants Train Museum at the Los Angeles County Fairgrounds in Pomona\, California is a historical journey back to the glory days of the American Railroad. \nOur Museum houses some of the country’s most well-preserved locomotives\, which includes several sole survivors of their respective classes. Our RailGiants collection contains two of the four surviving 3-Cylinder steam locomotives; SP #5021 and UP #9000. The largest diesel locomotive\, a Union Pacific “Centennial\,” is also here. In addition to our locomotives\, we have various pieces of Rolling Stock (freight and passenger cars)\, our historic Arcadia Depot\, Library Archives\, and Gift Shop. \nWe are open free to the public during the second weekend of each month\, except in May\, from 10 am to 5 pm. Ample parking is available. \nLearn More
URL:https://inlandempiremagazine.com/event/railgiants-train-museum-8/
LOCATION:Pomona Fairplex\, 1101 Mckinley\, Pomona\, CA
CATEGORIES:Museums
ATTACH;FMTTYPE=image/jpeg:https://inlandempiremagazine.com/wp-content/uploads/2024/08/RailGiants-Banner.jpg
END:VEVENT
END:VCALENDAR