BEGIN:VCALENDAR
VERSION:2.0
PRODID:-//Inland Empire Magazine - ECPv6.15.20//NONSGML v1.0//EN
CALSCALE:GREGORIAN
METHOD:PUBLISH
X-ORIGINAL-URL:https://inlandempiremagazine.com
X-WR-CALDESC:Events for Inland Empire Magazine
REFRESH-INTERVAL;VALUE=DURATION:PT1H
X-Robots-Tag:noindex
X-PUBLISHED-TTL:PT1H
BEGIN:VTIMEZONE
TZID:UTC
BEGIN:STANDARD
TZOFFSETFROM:+0000
TZOFFSETTO:+0000
TZNAME:UTC
DTSTART:20240101T000000
END:STANDARD
END:VTIMEZONE
BEGIN:VEVENT
DTSTART;TZID=UTC:20250109T193000
DTEND;TZID=UTC:20250109T193000
DTSTAMP:20260426T001009
CREATED:20241230T200909Z
LAST-MODIFIED:20241230T200949Z
UID:19886-1736451000-1736451000@inlandempiremagazine.com
SUMMARY:A Tribute to Tony Bennett
DESCRIPTION: Thursday\, January 9\, 2025\, 7:30 pm\n\n\n\n\n\nBuy Tickets\nSelect your seats here!\n\n\n\n\n\n\nJoin us for an unforgettable evening with Steve Leeds and be swept away by a timeless songbook of standards that spans three generations.  It will leave you feeling uplifted and thoroughly entertained. Steve Leeds has taken the stage at prestigious venues\, captivating audiences with his authentic renditions of Tony Bennett’s classics. From the romantic crooning of “I Left My Heart in San Francisco” to the timeless elegance of “The Way You Look Tonight\,” Steve’s performances transport listeners to a bygone era of sophistication and musical excellence.
URL:https://inlandempiremagazine.com/event/a-tribute-to-tony-bennett/
LOCATION:Lewis Family Playhouse\, 12505 Cultural Center Drive\,\, Rancho Cuc
CATEGORIES:Concerts
ATTACH;FMTTYPE=image/png:https://inlandempiremagazine.com/wp-content/uploads/2024/12/tony-bennett-1.png
END:VEVENT
END:VCALENDAR