BEGIN:VCALENDAR
VERSION:2.0
PRODID:-//Inland Empire Magazine - ECPv6.15.20//NONSGML v1.0//EN
CALSCALE:GREGORIAN
METHOD:PUBLISH
X-ORIGINAL-URL:https://inlandempiremagazine.com
X-WR-CALDESC:Events for Inland Empire Magazine
REFRESH-INTERVAL;VALUE=DURATION:PT1H
X-Robots-Tag:noindex
X-PUBLISHED-TTL:PT1H
BEGIN:VTIMEZONE
TZID:UTC
BEGIN:STANDARD
TZOFFSETFROM:+0000
TZOFFSETTO:+0000
TZNAME:UTC
DTSTART:20240101T000000
END:STANDARD
END:VTIMEZONE
BEGIN:VEVENT
DTSTART;TZID=UTC:20250105T160000
DTEND;TZID=UTC:20250105T160000
DTSTAMP:20260426T001020
CREATED:20241230T200001Z
LAST-MODIFIED:20241230T200049Z
UID:19882-1736092800-1736092800@inlandempiremagazine.com
SUMMARY:Amahl and the Night Visitors
DESCRIPTION:Featuring  outstanding principal vocalists in collaboration with the Southland Symphony Orchestra\, this live\, in-person performance will showcase some of the finest singers in Southern California. Featuring Kyla Page Williams as the Mother; Sherry Kaplan as Amahl; Lee Conger as Kaspar; Phil Meyer as Melchior; Eli Katz as the Page\, and Michal Dawson Connor as Balthazar.Their great vocal skill and dramatic ability and deeply immerse the audience in the action of the story.  Michal Dawson Connor returns as our Director\, and Dr. Sylvia Lee Mann\, Music Director and Conductor\, as always\, leads the musical production. \n 
URL:https://inlandempiremagazine.com/event/amahl-and-the-night-visitors/
LOCATION:Bethel Congressional Church\, 536 N. Euclid Ave\, Ontario\, CA
CATEGORIES:Concerts
ATTACH;FMTTYPE=image/webp:https://inlandempiremagazine.com/wp-content/uploads/2024/12/meta_eyJzcmNCdWNrZXQiOiJiemdsZmlsZXMifQ.webp
END:VEVENT
END:VCALENDAR