BEGIN:VCALENDAR
VERSION:2.0
PRODID:-//Inland Empire Magazine - ECPv6.15.20//NONSGML v1.0//EN
CALSCALE:GREGORIAN
METHOD:PUBLISH
X-WR-CALNAME:Inland Empire Magazine
X-ORIGINAL-URL:https://inlandempiremagazine.com
X-WR-CALDESC:Events for Inland Empire Magazine
REFRESH-INTERVAL;VALUE=DURATION:PT1H
X-Robots-Tag:noindex
X-PUBLISHED-TTL:PT1H
BEGIN:VTIMEZONE
TZID:UTC
BEGIN:STANDARD
TZOFFSETFROM:+0000
TZOFFSETTO:+0000
TZNAME:UTC
DTSTART:20230101T000000
END:STANDARD
END:VTIMEZONE
BEGIN:VEVENT
DTSTART;TZID=UTC:20241012T000000
DTEND;TZID=UTC:20241110T000000
DTSTAMP:20260426T034330
CREATED:20240925T192105Z
LAST-MODIFIED:20240925T192105Z
UID:18122-1728691200-1731196800@inlandempiremagazine.com
SUMMARY:A Spoonful of Sherman
DESCRIPTION:A Spoonful of Sherman\n\n\nTHE SONGBOOK OF YOUR CHILDHOOD ON STAGE! \nLifeHouse Theater has been awarded the honor of presenting the West Coast premiere of Robert J. Sherman’s “A Spoonful of Sherman.”  This poignant salute to the Sherman brothers’ songwriting family will lead you on a musical journey through their amazing careers and contributions to culture.  Enjoy a lively showcase of unforgettable\, world-famous songs you have known and loved all your life! \nOctober 12 – November 10\, 2024
URL:https://inlandempiremagazine.com/event/a-spoonful-of-sherman/
LOCATION:LifeHouse Theater\, 1135 N. Church St.\,\, Redlands\, CA
CATEGORIES:Shows
ATTACH;FMTTYPE=image/png:https://inlandempiremagazine.com/wp-content/uploads/2024/09/A-Spoonful-of-Sherman.png
END:VEVENT
BEGIN:VEVENT
DTSTART;TZID=UTC:20241031T160000
DTEND;TZID=UTC:20241031T190000
DTSTAMP:20260426T034330
CREATED:20240925T193547Z
LAST-MODIFIED:20240925T193547Z
UID:18137-1730390400-1730401200@inlandempiremagazine.com
SUMMARY:Halloween Festivities
DESCRIPTION:HALLOWEEN FESTIVITIES AT DOS LAGOS!\n\n\n\nEvent to Feature Safe Trick-or-Treating for Families\nCostume Contest: Kids ages 11 & under (Prizes Top 3) | Kids ages 12 & up (Prizes Top 10) | Family (Prizes Top 3)\n\n\n\n– Zombie Stilt Walker – Halloween Games – Free Prizes (while supplies last) – Face Painters – Balloon Twisters\n– Music – Crafts (while supplies last) – Magician & more!\n\n\n\nWHEN: Thursday\, October 31\, 2024 from 4pm-7pm\nWHERE: The Shops at Dos Lagos – 2780 Cabot Drive\, Corona\, CA 92883
URL:https://inlandempiremagazine.com/event/halloween-festivities/
LOCATION:The Shops at Dos Lagos\, 2755 Lakeshore Dr.\, Corona\, CA
CATEGORIES:Holiday Celebrations
ATTACH;FMTTYPE=image/jpeg:https://inlandempiremagazine.com/wp-content/uploads/2024/09/FB-Banner-Halloween-2024-scaled-1.jpg
END:VEVENT
END:VCALENDAR